BEGIN:VCALENDAR
VERSION:2.0
PRODID:-//ChamberMaster//Event Calendar 2.0//EN
METHOD:PUBLISH
X-PUBLISHED-TTL:P3D
REFRESH-INTERVAL:P3D
CALSCALE:GREGORIAN
BEGIN:VEVENT
DTSTART:20100203T170000Z
DTEND:20100203T170000Z
X-MICROSOFT-CDO-ALLDAYEVENT:FALSE
SUMMARY:Sales & Marketing Council SEMINAR: "The Impact of the Appraisal Process on New Home Sales"
DESCRIPTION:MEMO TO: Sales & Marketing Council FROM: Pamela Perini\, President SUBJECT: SMC Board of Directors Meeting & Appraisal Seminar DATE: Wednesday\, February 3rd\, 2010 TIME: 9:00 a.m. PLACE: League Office Agenda: SEMINAR: "The Impact of the Appraisal Process on New Home Sales"    \n \n SPEAKER: Edward T. Molinari\, SRA Lately\, mortgage brokers\, builders\, real estate agents and others in the housing business have been complaining about unfair appraisals. If you want to know why\, then you can't afford to miss this informative breakfast seminar. Hear from Edward Molinari\, SRA\, bankers & local and national builders how their business is affected by the current appraisal situation. Are builders losing deals because homes are not appraising?\n Are buyers needing to bring additional $$ to the table due to last minute reduced appraisals?\n How are builders balancing reduced pricing with keeping home values up? (Smaller models\, subtle incentives .)\n \n You are cordially invited to join us for the monthly SMC Meeting directly following the Appraisal Seminar.\n  \n 1. BLSJ Conflict of Interest Statement \n 2. Adoption of December 2\, 2009 Minutes \n 3. Introductions \n 4. 2010 SMC Seminars Schedule Completed\n 5. Builder/Realtor Expo.\n 6. "where will we be after tax credit expires in April"\n 7. $15\,000 tax credit from NJ???? - \n 8. SMC Mixer   Date/Venue\n 9. Old Business   \n a. "Buy New   It's Time" Campaign ?\n b. Review of Builder Surveys\n 10. Next SMC - March 3\, 2010\n 11. Adjournment ___ Yes\, I will attend Name: __________________________________________________________________ Company: ________________________________________________________________
X-ALT-DESC;FMTTYPE=text/html:<p>MEMO TO: Sales &amp\; Marketing Council</p> <p>FROM: Pamela Perini\, President</p> <p>SUBJECT: SMC Board of Directors Meeting &amp\; Appraisal Seminar</p> <p>DATE: Wednesday\, February 3rd\, 2010</p> <p>TIME: 9:00 a.m.</p> <p>PLACE: League Office</p> <p>Agenda:</p> <p><span style="color: #ff0000"><strong>SEMINAR: &quot\;The Impact of the Appraisal Process on New Home Sales&quot\;&nbsp\;&nbsp\;&nbsp\; </strong></span><br /> <br /> SPEAKER: Edward T. Molinari\, SRA</p> <p>Lately\, mortgage brokers\, builders\, real estate agents and others in the housing business have been complaining about unfair appraisals. If you want to know why\, then you can&rsquo\;t afford to miss this informative breakfast seminar. Hear from Edward Molinari\, SRA\, bankers &amp\; local and national builders how their business is affected by the current appraisal situation.</p> <p>Are builders losing deals because homes are not appraising?<br /> Are buyers needing to bring additional $$ to the table due to last minute reduced appraisals?<br /> How are builders balancing reduced pricing with keeping home values up? (Smaller models\, subtle incentives&hellip\;.)<br /> <br /> You are cordially invited to join us for the monthly&nbsp\;SMC Meeting directly following the Appraisal Seminar.<br /> &nbsp\;<br /> 1. BLSJ Conflict of Interest Statement <br /> 2. Adoption of December 2\, 2009 Minutes <br /> 3. Introductions <br /> 4. 2010 SMC Seminars Schedule Completed<br /> 5. Builder/Realtor Expo.<br /> 6. &quot\;where will we be after tax credit expires in April&quot\;<br /> 7. $15\,000 tax credit from NJ???? - <br /> 8. SMC Mixer &ndash\; Date/Venue<br /> 9. Old Business &ndash\; <br /> a. &ldquo\;Buy New &ndash\; It&rsquo\;s Time&rdquo\; Campaign ?<br /> b. Review of Builder Surveys<br /> 10. Next SMC - March 3\, 2010<br /> 11. Adjournment</p> <p>___ Yes\, I will attend</p> <p>Name: __________________________________________________________________</p> <p>Company: ________________________________________________________________</p> <p>&nbsp\;</p> <p>&nbsp\;</p>
LOCATION:114 Haddontowne Court Cherry Hill\, NJ 08034
UID:e.9292.831
SEQUENCE:3
DTSTAMP:20260421T194419Z
URL:https://members.blsj.com/events/details/sales-marketing-council-seminar-the-impact-of-the-appraisal-process-on-new-home-sales-02-03-2010-831
END:VEVENT

END:VCALENDAR
