BEGIN:VCALENDAR
VERSION:2.0
PRODID:-//ChamberMaster//Event Calendar 2.0//EN
METHOD:PUBLISH
X-PUBLISHED-TTL:P3D
REFRESH-INTERVAL:P3D
CALSCALE:GREGORIAN
BEGIN:VEVENT
DTSTART:20100804T220000Z
DTEND:20100804T160000Z
X-MICROSOFT-CDO-ALLDAYEVENT:FALSE
SUMMARY:Sales & Marketing Council - Presents "HOW TO ENTER/WIN A "MAME" AWARD in 2010" SEMINAR
DESCRIPTION:How to Enter/Win a "MAME" Award in 2010 Seminar MAJOR ACHIEVEMENTS IN MARKETING EXCELLENCE\n "It's not just a Builder Awards Program"\n \n BUILDERS\, ASSOCIATES AND REMODELERS CAN ENTER THE MAME AWARDS. Join us for this informational seminar and learn: * How to Enter the MAME Awards.\n * What is Needed to Enter the MAME Awards.\n * What makes an Award Winning Photograph.\n * How to Get Your Model Ready for Judging. (Builder categories only)\n *Examples of Winning Entries.\n * Benefits of Winning a MAME Award\n \n Attend this FREE seminar and get expert advise from\n previous MAME Winners and Judges.\n \n "NEW" Categories added for 2010! The seminar will be held at the BLSJ office on August 4\, 2010\n Registration: 8:30 a.m.      Seminar: 9:00 a.m.    Cost: FREE\n Continental Breakfast will be served
X-ALT-DESC;FMTTYPE=text/html:<p style="text-align: center">How to Enter/Win a &quot\;MAME&quot\; Award in 2010 Seminar</p> <p style="text-align: center"><span style="font-size: small"><u><strong>M</strong></u></span><strong>AJOR <span style="font-size: small"><u>A</u></span>CHIEVEMENTS IN <span style="font-size: small"><u>M</u></span>ARKETING <span style="font-size: small"><u>E</u></span>XCELLENCE</strong><br /> &quot\;It&rsquo\;s not just a Builder Awards Program&quot\;<br /> <br /> <u><strong><span style="color: #ff0000">BUILDERS\, ASSOCIATES AND REMODELERS CAN ENTER THE MAME AWARDS.</span></strong></u></p> <p style="text-align: center"><u>Join us for this informational seminar and learn:</u></p> <p style="text-align: center">* How to Enter the MAME Awards.<br /> * What is Needed to Enter the MAME Awards.<br /> * What makes an Award Winning Photograph.<br /> * How to Get Your Model Ready for Judging. (Builder categories only)<br /> *Examples of Winning Entries.<br /> * Benefits of Winning a MAME Award<br /> <br /> Attend this <em><span style="font-size: small">FREE</span></em> seminar and get expert advise from<br /> previous MAME Winners and Judges.<br /> <br /> <em><span style="font-size: small">&quot\;NEW&quot\;</span></em><span id="fck_dom_range_temp_1277744285218_692" /> Categories added for 2010!</p> <p style="text-align: center">The seminar will be held at the BLSJ office on August 4\, 2010<br /> Registration: <strong>8:30 a.m.&nbsp\;</strong>&nbsp\;&nbsp\;&nbsp\;&nbsp\; Seminar: <strong>9:00 a.m.&nbsp\;</strong>&nbsp\;&nbsp\; Cost: <strong>FREE<br /> Continental Breakfast will be served</strong></p> <p style="text-align: center">&nbsp\;</p> <p style="text-align: center"><br /> &nbsp\;</p>
LOCATION:114 Haddontowne Court Cherry Hill\, NJ 08034
UID:e.9292.1537
SEQUENCE:3
DTSTAMP:20260421T105120Z
URL:https://members.blsj.com/events/details/sales-marketing-council-presents-how-to-enter-win-a-mame-award-in-2010-seminar-08-04-2010-1537
END:VEVENT

END:VCALENDAR
