BEGIN:VCALENDAR
VERSION:2.0
PRODID:-//ChamberMaster//Event Calendar 2.0//EN
METHOD:PUBLISH
X-PUBLISHED-TTL:P3D
REFRESH-INTERVAL:P3D
CALSCALE:GREGORIAN
BEGIN:VEVENT
DTSTART:20100519T220000Z
DTEND:20100519T220000Z
X-MICROSOFT-CDO-ALLDAYEVENT:FALSE
SUMMARY:Sales & Marketing Council Mixer at Treno's
DESCRIPTION:The Sales & Marketing Council\n Of The Builders League of South Jersey Invites you to their 4th Annual\n MIX & MINGLE!\n  at\n TRENO   \n Pizza\, Pasta & Vino (Formerly Kitchen 233)\n 233 Haddon Avenue   Westmont\, NJ WEDNESDAY\, MAY 19\, 2010\n 5:30 PM   7:30 PM $20.00 per person\n INCLUDES ONE COMPLIMENTARY COCKTAIL & HORS D'OUERVES
X-ALT-DESC;FMTTYPE=text/html:<p style="text-align: center"><span style="font-size: small">The Sales &amp\; Marketing Council<br /> Of The Builders League of South Jersey</span></p> <p style="text-align: center"><span style="font-size: small">Invites you to their 4th Annual<br /> MIX &amp\; MINGLE!<br /> </span></p> <p style="text-align: center"><span style="font-size: small">at<br /> TRENO&nbsp\;&nbsp\; </span><br /> <span style="font-size: small">Pizza\, Pasta &amp\; Vino</span></p> <p style="text-align: center"><span style="font-size: small">(Formerly Kitchen 233)<br /> 233 Haddon Avenue &diams\; Westmont\, NJ</span></p> <p style="text-align: center">WEDNESDAY\, MAY 19\, 2010<br /> 5:30 PM &ndash\; 7:30 PM</p> <p style="text-align: center">$20.00 per person<br /> INCLUDES ONE COMPLIMENTARY COCKTAIL &amp\; HORS D&rsquo\;OUERVES<br /> &nbsp\;</p>
LOCATION:233 Haddon Avenue Westmont\, NJ 00000
UID:e.9292.830
SEQUENCE:3
DTSTAMP:20260421T163445Z
URL:https://members.blsj.com/events/details/sales-marketing-council-mixer-at-treno-s-05-19-2010-830
END:VEVENT

END:VCALENDAR
