BEGIN:VCALENDAR
VERSION:2.0
PRODID:-//ChamberMaster//Event Calendar 2.0//EN
METHOD:PUBLISH
X-PUBLISHED-TTL:P3D
REFRESH-INTERVAL:P3D
CALSCALE:GREGORIAN
BEGIN:VEVENT
DTSTART:20090507T220000Z
DTEND:20090507T220000Z
X-MICROSOFT-CDO-ALLDAYEVENT:FALSE
SUMMARY:Sales & Marketing Council Mixer at Scaturro's Restaurant & Bar
DESCRIPTION:The Sales & Marketing Council\n Of The Builders League of South Jersey Invites you to the 3rd Annual\n MIX & MINGLE ON THE DECK! SCATURRO'S RESTURANT & BAR\n 841 Route 73   Marlton\, NJ THURSDAY\, MAY 7\, 2009\n 5:30 PM   7:30 PM COCKTAILS & HORS D'OUERVES Cost: Sales & Marketing Council Members $30/person\n Non-SMC Members $40/person\n In Advance Only   No Billing RSVP: Marlene Spencer\n Builders League of South Jersey\n 114 Haddontowne Court\n Cherry Hill\, NJ 08034\n Phone: 856.616.8460/ Fax: 856.616.8467\n e-mail: marlene@blsj.com
X-ALT-DESC;FMTTYPE=text/html:<p style="text-align: center">The Sales &amp\; Marketing Council<br /> Of The Builders League of South Jersey</p> <p style="text-align: center"><big><strong>Invites you to the 3rd Annual<br /> MIX &amp\; MINGLE ON THE DECK!</strong></big></p> <p style="text-align: center"><big><strong>SCATURRO&rsquo\;S RESTURANT &amp\; BAR<br /> </strong></big>841 Route 73 &diams\; Marlton\, NJ</p> <p style="text-align: center"><strong><big>THURSDAY\, MAY 7\, 2009<br /> 5:30 PM &ndash\; 7:30 PM</big></strong></p> <p style="text-align: center"><big><strong>COCKTAILS &amp\; HORS D&rsquo\;OUERVES</strong></big></p> <p style="text-align: center">Cost: Sales &amp\; Marketing Council Members $30/person<br /> Non-SMC Members $40/person<br /> In Advance Only &ndash\; No Billing</p> <p style="text-align: center">RSVP: Marlene Spencer<br /> Builders League of South Jersey<br /> 114 Haddontowne Court<br /> Cherry Hill\, NJ 08034<br /> Phone: 856.616.8460/ Fax: 856.616.8467<br /> e-mail: marlene@blsj.com<br /> &nbsp\;</p>
LOCATION:841 Route 73 Marlton\, NJ 08053
UID:e.9292.562
SEQUENCE:3
DTSTAMP:20260422T075256Z
URL:https://members.blsj.com/events/details/sales-marketing-council-mixer-at-scaturro-s-restaurant-bar-05-07-2009-562
END:VEVENT

END:VCALENDAR
