BEGIN:VCALENDAR
VERSION:2.0
PRODID:-//ChamberMaster//Event Calendar 2.0//EN
METHOD:PUBLISH
X-PUBLISHED-TTL:P3D
REFRESH-INTERVAL:P3D
CALSCALE:GREGORIAN
BEGIN:VEVENT
DTSTART:20100707T160000Z
DTEND:20100707T160000Z
X-MICROSOFT-CDO-ALLDAYEVENT:FALSE
SUMMARY:Sales & Marketing Council Meeting - MEETING CANCELLED
DESCRIPTION:MEMO TO: Sales & Marketing Council FROM: Pamela Perini\, President SUBJECT: SMC Board of Directors Meeting DATE: Wednesday\, July 7\, 2010 - NO MEETING IN JULY TIME: 8:00 a.m. PLACE: League Office\n \n MAME \n a. 2010 MAME Venue   Merion Caterers\, Wednesday\, November 10th\, 2010\n b. Theme   Denim & Diamonds\n c. Call to Entries   Review \n d. Sponsorships - Review\n e. Judges   Confirmed: \n     Debbie Gangi - Star Ledger\n     Blair Severino - Severino Homes\n f.  DJ - $275 - Confirmed\n g. Centerpieces   LY - $322.50 TY ??? Diamond $3. each ? \n      \n h. Balloons   LY $128.40
X-ALT-DESC;FMTTYPE=text/html:<p>MEMO TO: Sales &amp\; Marketing Council</p> <p>FROM: Pamela Perini\, President</p> <p>SUBJECT: SMC Board of Directors Meeting</p> <p>DATE: Wednesday\, July 7\, 2010 - NO MEETING IN JULY</p> <p>TIME: 8:00 a.m.</p> <p>PLACE: League Office<br /> <br /> MAME <br /> a. 2010 MAME Venue &ndash\; Merion Caterers\, Wednesday\, November 10th\, 2010<br /> b. Theme &ndash\; Denim &amp\; Diamonds<br /> c. Call to Entries &ndash\; Review <br /> d. Sponsorships - Review<br /> e. Judges &ndash\; Confirmed: <br /> &nbsp\;&nbsp\;&nbsp\; Debbie Gangi - Star Ledger<br /> &nbsp\;&nbsp\;&nbsp\; Blair Severino - Severino Homes<br /> f.&nbsp\; DJ - $275 - Confirmed<br /> g. Centerpieces &ndash\; LY - $322.50 TY ??? Diamond $3. each ?&nbsp\;<br /> &nbsp\;&nbsp\;&nbsp\;&nbsp\; <br /> h. Balloons &ndash\; LY $128.40 <br /> &nbsp\;</p>
LOCATION:114 Haddontowne Court Cherry Hill\, NJ 08034
UID:e.9292.1433
SEQUENCE:3
DTSTAMP:20260421T121121Z
URL:https://members.blsj.com/events/details/sales-marketing-council-meeting-meeting-cancelled-07-07-2010-1433
END:VEVENT

END:VCALENDAR
