BEGIN:VCALENDAR
VERSION:2.0
PRODID:-//ChamberMaster//Event Calendar 2.0//EN
METHOD:PUBLISH
X-PUBLISHED-TTL:P3D
REFRESH-INTERVAL:P3D
CALSCALE:GREGORIAN
BEGIN:VEVENT
DTSTART:20100505T220000Z
DTEND:20100505T160000Z
X-MICROSOFT-CDO-ALLDAYEVENT:FALSE
SUMMARY:Sales & Marketing Council Meeting & Builder/Realtor Panel Discussion
DESCRIPTION:Increased Profits  Through Effective Builder Broker Cooperation  Learn how to profit  from alliances with brokers. Builder and Realtor  relationships are often  contentious\, but they don't have to be. This panel of Builders and Realtors  shows how to forge solid relationships that are mutually beneficial. Topics  include the differences and similarities between the two parties\, broker  selection and more.  Find out how  to:      Use common interests to connect with  brokers.      Understand the concerns of brokers.       Choose compatible sales  professionals.      Maximize profits from your broker  relationships.
X-ALT-DESC;FMTTYPE=text/html:<p>&nbsp\;<font size="3" face="Arial" color="black"><span style="font-family: Arial\; color: black\; font-size: 12pt\;">Increased Profits  Through Effective Builder Broker Cooperation <o:p></o:p></span></font></p> <p class="MsoNormal"><font size="3" face="Arial" color="#333333"><span style="font-family: Arial\; font-size: 12pt\;" /><span style="font-family: Arial\; color: rgb(51\, 51\, 51)\; font-size: 12pt\;">Learn how to profit  from alliances with brokers. Builder and Realtor&reg\; relationships are often  contentious\, but they don&rsquo\;t have to be. This panel of Builders and Realtors  shows how to forge solid relationships that are mutually beneficial. Topics  include the differences and similarities between the two parties\, broker  selection and more.</span></font><font face="Arial"><span style="font-family: Arial\;"><o:p></o:p></span></font></p> <p class="MsoNormal" style="line-height: 18pt\;"><font size="3" face="Arial" color="#333333"><span style="font-family: Arial\; font-size: 12pt\;">&nbsp\;</span><span style="font-family: Arial\; color: rgb(51\, 51\, 51)\; font-size: 12pt\;">Find out how  to:</span></font><font face="Arial"><span style="font-family: Arial\;"><o:p></o:p></span></font></p> <ul type="disc" style="margin-top: 0in\;">     <li class="MsoNormal" style="line-height: 18pt\; color: rgb(51\, 51\, 51)\;"><font size="3" face="Arial" color="#333333"><span style="font-family: Arial\; font-size: 12pt\;">Use common interests to connect with  brokers. <o:p></o:p></span></font></li>     <li class="MsoNormal" style="line-height: 18pt\; color: rgb(51\, 51\, 51)\;"><font size="3" face="Arial" color="#333333"><span style="font-family: Arial\; font-size: 12pt\;">Understand the concerns of brokers.  <o:p></o:p></span></font></li>     <li class="MsoNormal" style="line-height: 18pt\; color: rgb(51\, 51\, 51)\;"><font size="3" face="Arial" color="#333333"><span style="font-family: Arial\; font-size: 12pt\;">Choose compatible sales  professionals. <o:p></o:p></span></font></li>     <li class="MsoNormal" style="line-height: 18pt\; color: rgb(51\, 51\, 51)\;"><font size="3" face="Arial" color="#333333"><span style="font-family: Arial\; font-size: 12pt\;">Maximize profits from your broker  relationships. <o:p></o:p></span></font></li> </ul> <p class="msobody" style="margin: 0in 0in 0pt\;"><font size="3" face="Times New Roman"><span style="font-size: 12pt\;">&nbsp\;<o:p></o:p></span></font></p>
LOCATION:114 Haddontowne Court Cherry Hill\, NJ 08034
UID:e.9292.1356
SEQUENCE:3
DTSTAMP:20260421T152347Z
URL:https://members.blsj.com/events/details/sales-marketing-council-meeting-builder-realtor-panel-discussion-05-05-2010-1356
END:VEVENT

END:VCALENDAR
