BEGIN:VCALENDAR
VERSION:2.0
PRODID:-//ChamberMaster//Event Calendar 2.0//EN
METHOD:PUBLISH
X-PUBLISHED-TTL:P3D
REFRESH-INTERVAL:P3D
CALSCALE:GREGORIAN
BEGIN:VEVENT
DTSTART:20091003T010000Z
DTEND:20091002T160000Z
X-MICROSOFT-CDO-ALLDAYEVENT:FALSE
SUMMARY:Sales & Marketing Council meeting - 10/02/2009
DESCRIPTION:SMC meeting - MAME Review 1. Sponsorshipsetc.
X-ALT-DESC;FMTTYPE=text/html:<p>SMC meeting - MAME Review</p> <p>1. Sponsorshipsetc.</p>
LOCATION:114 Haddontowne Court Cherry Hill\, NJ
UID:e.9292.1113
SEQUENCE:3
DTSTAMP:20260422T011625Z
URL:https://members.blsj.com/events/details/sales-marketing-council-meeting-10-02-2009-10-02-2009-1113
END:VEVENT

END:VCALENDAR
