BEGIN:VCALENDAR
VERSION:2.0
PRODID:-//ChamberMaster//Event Calendar 2.0//EN
METHOD:PUBLISH
X-PUBLISHED-TTL:P3D
REFRESH-INTERVAL:P3D
CALSCALE:GREGORIAN
BEGIN:VEVENT
DTSTART:20090923T160000Z
DTEND:20090923T160000Z
X-MICROSOFT-CDO-ALLDAYEVENT:FALSE
SUMMARY:Sales & Marketing Council Meeting - 09/23/2009
DESCRIPTION:All hands on deck as we lead up to the final preparation for the MAME Awards
X-ALT-DESC;FMTTYPE=text/html:<p>All hands on deck as we lead up to the final preparation for the MAME Awards</p>
LOCATION:114 Haddontowne Court Cherry Hill\, NJ 08034
UID:e.9292.827
SEQUENCE:3
DTSTAMP:20260422T040400Z
URL:https://members.blsj.com/events/details/sales-marketing-council-meeting-09-23-2009-09-23-2009-827
END:VEVENT

END:VCALENDAR
