BEGIN:VCALENDAR
VERSION:2.0
PRODID:-//ChamberMaster//Event Calendar 2.0//EN
METHOD:PUBLISH
X-PUBLISHED-TTL:P3D
REFRESH-INTERVAL:P3D
CALSCALE:GREGORIAN
BEGIN:VEVENT
DTSTART:20100609T160000Z
DTEND:20100609T160000Z
X-MICROSOFT-CDO-ALLDAYEVENT:FALSE
SUMMARY:SALES & MARKETING COUNCIL MEETING - 06/09/2010
DESCRIPTION:SALES AND MARKETING COUNCIL\n Of The Builders League of South Jersey\n 114 Haddontowne Court\n Cherry Hill\, NJ 08034\n (856) 616-8460/ FAX (856) 616-8467\n ________________________________________________________________________   MEMO TO: Sales & Marketing Council FROM: Pamela Perini\, President SUBJECT: SMC Board of Directors Meeting \n DATE: Wednesday\, June 9\, 2010 TIME: 8:20 a.m. PLACE: League Office Agenda: 1. BLSJ Conflict of Interest Statement \n 2. Adoption of May 5\, 2010 Minutes \n 3. Introductions \n 4. 2010 SMC Seminars Schedule\n 5. Breakfast of Champions Recap   Joint event with The Burlington Camden County Association of REALTORS  \n 6. $15\,000 tax credit from NJ- Update\n 7. SMC Mixer Update\n 8. Old Business   \n a) Continue planning education seminars for remainder of calendar year.\n 9. Next SMC - August 4\, 2010   8:20 a.m. ????\n 10. Adjournment \n MAME SUB-COMMITTEE MEETING\n a. 2010 MAME Venue   Merion Caterers\, Wednesday\, November 10th\, 2010\n b. Theme   Denim & Diamonds\n c. Call to Entries   Review \n CC: W. Ziegenfuss\n R. Van Osten\n M. Spencer
X-ALT-DESC;FMTTYPE=text/html:<p>SALES AND MARKETING COUNCIL<br /> Of The Builders League of South Jersey<br /> 114 Haddontowne Court<br /> Cherry Hill\, NJ 08034<br /> (856) 616-8460/ FAX (856) 616-8467<br /> ________________________________________________________________________</p> <p>&nbsp\;</p> <p>MEMO TO: Sales &amp\; Marketing Council</p> <p>FROM: Pamela Perini\, President</p> <p>SUBJECT: SMC Board of Directors Meeting</p> <p><br /> DATE: Wednesday\, June 9\, 2010</p> <p>TIME: 8:20 a.m.</p> <p>PLACE: League Office</p> <p>Agenda:</p> <p>1. BLSJ Conflict of Interest Statement <br /> 2. Adoption of May 5\, 2010 Minutes <br /> 3. Introductions <br /> 4. 2010 SMC Seminars Schedule<br /> 5. Breakfast of Champions Recap &ndash\; Joint event with The Burlington Camden County Association of REALTORS&reg\; <br /> 6. $15\,000 tax credit from NJ- Update<br /> 7. SMC Mixer Update<br /> 8. Old Business &ndash\; <br /> a) Continue planning education seminars for remainder of calendar year.<br /> 9. Next SMC - August 4\, 2010 &ndash\; 8:20 a.m. ????<br /> 10. Adjournment</p> <p><br /> MAME SUB-COMMITTEE MEETING<br /> a. 2010 MAME Venue &ndash\; Merion Caterers\, Wednesday\, November 10th\, 2010<br /> b. Theme &ndash\; Denim &amp\; Diamonds<br /> c. Call to Entries &ndash\; Review</p> <p><br /> CC: W. Ziegenfuss<br /> R. Van Osten<br /> M. Spencer<br /> &nbsp\;</p>
LOCATION:114 Haddontowne Court Cherry Hill\, NJ 08034
UID:e.9292.828
SEQUENCE:3
DTSTAMP:20260421T132747Z
URL:https://members.blsj.com/events/details/sales-marketing-council-meeting-06-09-2010-06-09-2010-828
END:VEVENT

END:VCALENDAR
