BEGIN:VCALENDAR
VERSION:2.0
PRODID:-//ChamberMaster//Event Calendar 2.0//EN
METHOD:PUBLISH
X-PUBLISHED-TTL:P3D
REFRESH-INTERVAL:P3D
CALSCALE:GREGORIAN
BEGIN:VEVENT
DTSTART:20090506T220000Z
DTEND:20090506T160000Z
X-MICROSOFT-CDO-ALLDAYEVENT:FALSE
SUMMARY:Sales & Marketing Council Meeting - 05/06/2009
DESCRIPTION:MEMO TO: Sales & Marketing Council FROM: Qamara Edwards\, President SUBJECT: SMC Board of Directors Meeting DATE: Wednesday\, May 6th\, 2009 TIME: 9:30 a.m. PLACE: League Office Agenda: 1. BLSJ Conflict of Interest Statement \n 2. Adoption of April 1st\, 2009 Minutes \n 3. Introductions\n 4. Recap from Builder/Realtor Expo Sub Committee\n a. Feedback/suggestions from builders\n b. Changes to event\n c. Pick a new date for the next event\n 5. Report from Mary Danielsen: "Buy New\, It's Time" Campaign\n 6. SMC Networking/Mixer   scheduled for May 7th @ 5:30 pm\n 7. Upcoming Classes & BLSJ Events\n 8. Next SMC - Wednesday\, June 3rd\n 9. Adjournment \n MAME SUB-COMMITTEE MEETING\n 1. Review Revised Call to Entries\n 2. Discuss Judges\n 3. MAME website and collateral materials discussion
X-ALT-DESC;FMTTYPE=text/html:<p>MEMO TO: Sales &amp\; Marketing Council</p> <p>FROM: Qamara Edwards\, President</p> <p>SUBJECT: SMC Board of Directors Meeting</p> <p>DATE: Wednesday\, May 6th\, 2009</p> <p>TIME: 9:30 a.m.</p> <p>PLACE: League Office</p> <p>Agenda:</p> <p>1. BLSJ Conflict of Interest Statement <br /> 2. Adoption of April 1st\, 2009 Minutes <br /> 3. Introductions<br /> 4. Recap from Builder/Realtor Expo Sub Committee<br /> a. Feedback/suggestions from builders<br /> b. Changes to event<br /> c. Pick a new date for the next event<br /> 5. Report from Mary Danielsen: &ldquo\;Buy New\, It&rsquo\;s Time&rdquo\; Campaign<br /> 6. SMC Networking/Mixer &ndash\; scheduled for May 7th @ 5:30 pm<br /> 7. Upcoming Classes &amp\; BLSJ Events<br /> 8. Next SMC - Wednesday\, June 3rd<br /> 9. Adjournment</p> <p><br /> MAME SUB-COMMITTEE MEETING<br /> 1. Review Revised Call to Entries<br /> 2. Discuss Judges<br /> 3. MAME website and collateral materials discussion</p> <p>&nbsp\;</p>
LOCATION:114 Haddontowne Court Cherry Hill\, NJ 08034
UID:e.9292.1427
SEQUENCE:3
DTSTAMP:20260422T075211Z
URL:https://members.blsj.com/events/details/sales-marketing-council-meeting-05-06-2009-05-06-2009-1427
END:VEVENT

END:VCALENDAR
