BEGIN:VCALENDAR
VERSION:2.0
PRODID:-//ChamberMaster//Event Calendar 2.0//EN
METHOD:PUBLISH
X-PUBLISHED-TTL:P3D
REFRESH-INTERVAL:P3D
CALSCALE:GREGORIAN
BEGIN:VEVENT
DTSTART:20070103T230000Z
DTEND:20070103T230000Z
X-MICROSOFT-CDO-ALLDAYEVENT:FALSE
SUMMARY:Sales & Marketing Council Meeting - 01/03/2007
DESCRIPTION:
X-ALT-DESC;FMTTYPE=text/html:
LOCATION:\, NJ
UID:e.9292.823
SEQUENCE:3
DTSTAMP:20260422T053121Z
URL:https://members.blsj.com/events/details/sales-marketing-council-meeting-01-03-2007-01-03-2007-823
END:VEVENT

END:VCALENDAR
