BEGIN:VCALENDAR
VERSION:2.0
PRODID:-//ChamberMaster//Event Calendar 2.0//EN
METHOD:PUBLISH
X-PUBLISHED-TTL:P3D
REFRESH-INTERVAL:P3D
CALSCALE:GREGORIAN
BEGIN:VEVENT
DTSTART:20061206T230000Z
DTEND:20061206T230000Z
X-MICROSOFT-CDO-ALLDAYEVENT:FALSE
SUMMARY:Sales & Marketing Committee Meeting - 12/06/2006
DESCRIPTION:Agenda: Join us as we thank outgoing SMC President Diane Ridgway for a wonderful year. We would also like you to share your comments on this years MAME Awards. See you on December 6th at 9:30 a.m.
X-ALT-DESC;FMTTYPE=text/html:<p>Agenda:</p> <p>Join us as we thank outgoing SMC President Diane Ridgway for a wonderful year.</p> <p>We would also like you to share your&nbsp\;comments on this years MAME Awards.</p> <p>See you on December 6th at 9:30 a.m.</p>
LOCATION:BLSJ Cherry Hill\, NJ 08034
UID:e.9292.820
SEQUENCE:3
DTSTAMP:20260422T023707Z
URL:https://members.blsj.com/events/details/sales-marketing-committee-meeting-12-06-2006-12-06-2006-820
END:VEVENT

END:VCALENDAR
