BEGIN:VCALENDAR
VERSION:2.0
PRODID:-//ChamberMaster//Event Calendar 2.0//EN
METHOD:PUBLISH
X-PUBLISHED-TTL:P3D
REFRESH-INTERVAL:P3D
CALSCALE:GREGORIAN
BEGIN:VEVENT
DTSTART:20051114T230000Z
DTEND:20051114T230000Z
X-MICROSOFT-CDO-ALLDAYEVENT:FALSE
SUMMARY:Sales & Marketing Committee Meeting - 11/14/2005
DESCRIPTION:Election of the 2006 SMC Board of Directors
X-ALT-DESC;FMTTYPE=text/html:Election of the 2006 SMC Board of Directors
LOCATION:BLSJ Cherry Hill\, NJ 08034
UID:e.9292.822
SEQUENCE:3
DTSTAMP:20260421T084043Z
URL:https://members.blsj.com/events/details/sales-marketing-committee-meeting-11-14-2005-11-14-2005-822
END:VEVENT

END:VCALENDAR
