BEGIN:VCALENDAR
VERSION:2.0
PRODID:-//ChamberMaster//Event Calendar 2.0//EN
METHOD:PUBLISH
X-PUBLISHED-TTL:P3D
REFRESH-INTERVAL:P3D
CALSCALE:GREGORIAN
BEGIN:VEVENT
DTSTART:20061004T160000Z
DTEND:20061004T220000Z
X-MICROSOFT-CDO-ALLDAYEVENT:FALSE
SUMMARY:Sales & Marketing Committee Meeting - 10/04/2006
DESCRIPTION:AGENDA:                                    1.  Adoption of September 6\, 2006 Minutes  2.  SMC Board Introductions 3.  Upcoming educational seminars 4.     Sales Training  5.     The "Scoop" Newsletter Update 6.     Strategic Plan Update 7.     Map Program 8.     Nominations for SMC Board of Directors 9.     Joseph S. Van Osten Lifetime Achievement Award 10. Old Business 11. New Business - New Home Buyers expo Adjournment
X-ALT-DESC;FMTTYPE=text/html:<p class="MsoNormal" style="MARGIN: 0in 0in 0pt"><font size="3"><strong><u><span style="FONT-FAMILY: &quot\;Comic Sans MS&quot\;\; mso-bidi-font-family: 'Comic Sans MS'">AGENDA:</span></u></strong><span style="FONT-FAMILY: &quot\;Comic Sans MS&quot\;\; mso-bidi-font-family: 'Comic Sans MS'">&nbsp\;&nbsp\; &nbsp\;&nbsp\;&nbsp\;&nbsp\;&nbsp\;&nbsp\;&nbsp\;&nbsp\;&nbsp\;&nbsp\;&nbsp\;&nbsp\;&nbsp\;&nbsp\;&nbsp\;&nbsp\;&nbsp\;&nbsp\;&nbsp\;&nbsp\;&nbsp\;&nbsp\;&nbsp\;&nbsp\;&nbsp\;&nbsp\;&nbsp\;&nbsp\;&nbsp\; <o:p></o:p></span></font></p> <p class="MsoNormal" style="MARGIN: 0in 0in 0pt"><span style="FONT-FAMILY: &quot\;Comic Sans MS&quot\;\; mso-bidi-font-family: 'Comic Sans MS'"><o:p><font size="3">&nbsp\;</font></o:p></span></p> <p class="MsoNormal" style="MARGIN: 0in 0in 0pt"><span><strong><font size="3">1. &nbsp\;</font>Adoption of September 6\, 2006 Minutes <o:p></o:p></strong></span></p> <p class="MsoNormal" style="MARGIN: 0in 0in 0pt"><span style="FONT-SIZE: 10pt\; FONT-FAMILY: &quot\;Comic Sans MS&quot\;\; mso-bidi-font-family: 'Comic Sans MS'"><strong>2.&nbsp\; SMC Board Introductions<o:p></o:p></strong></span></p> <p class="MsoNormal" style="MARGIN: 0in 0in 0pt"><span style="FONT-SIZE: 10pt\; FONT-FAMILY: &quot\;Comic Sans MS&quot\;\; mso-bidi-font-family: 'Comic Sans MS'"><strong>3.&nbsp\; Upcoming educational seminars<o:p></o:p></strong></span></p> <p class="MsoNormal" style="MARGIN: 0in 0in 0pt 0.25in\; TEXT-INDENT: -0.25in\; mso-list: l0 level1 lfo1"><span><strong><span style="mso-list: Ignore">4.<span style="FONT: 7pt &quot\;Times New Roman&quot\;">&nbsp\;&nbsp\;&nbsp\;&nbsp\; </span></span>Sales Training <o:p></o:p></strong></span></p> <p class="MsoNormal" style="MARGIN: 0in 0in 0pt 0.25in\; TEXT-INDENT: -0.25in\; mso-list: l0 level1 lfo1"><span><strong><span style="mso-list: Ignore">5.<span style="FONT: 7pt &quot\;Times New Roman&quot\;">&nbsp\;&nbsp\;&nbsp\;&nbsp\; </span></span>The &quot\;Scoop&quot\; Newsletter Update<o:p></o:p></strong></span></p> <p class="MsoNormal" style="MARGIN: 0in 0in 0pt 0.25in\; TEXT-INDENT: -0.25in\; mso-list: l0 level1 lfo1"><span><strong><span style="mso-list: Ignore">6.<span style="FONT: 7pt &quot\;Times New Roman&quot\;">&nbsp\;&nbsp\;&nbsp\;&nbsp\; </span></span>Strategic Plan Update<o:p></o:p></strong></span></p> <p class="MsoNormal" style="MARGIN: 0in 0in 0pt 0.25in\; TEXT-INDENT: -0.25in\; mso-list: l0 level1 lfo1"><span><strong><span style="mso-list: Ignore">7.<span style="FONT: 7pt &quot\;Times New Roman&quot\;">&nbsp\;&nbsp\;&nbsp\;&nbsp\; </span></span>Map Program<o:p></o:p></strong></span></p> <p class="MsoNormal" style="MARGIN: 0in 0in 0pt 0.25in\; TEXT-INDENT: -0.25in\; mso-list: l0 level1 lfo1"><span><strong><span style="mso-list: Ignore">8.<span style="FONT: 7pt &quot\;Times New Roman&quot\;">&nbsp\;&nbsp\;&nbsp\;&nbsp\; </span></span>Nominations for SMC Board of Directors<o:p></o:p></strong></span></p> <p class="MsoNormal" style="MARGIN: 0in 0in 0pt 0.25in\; TEXT-INDENT: -0.25in\; mso-list: l0 level1 lfo1"><span><strong><span style="mso-list: Ignore">9.<span style="FONT: 7pt &quot\;Times New Roman&quot\;">&nbsp\;&nbsp\;&nbsp\;&nbsp\; </span></span>Joseph S. Van Osten Lifetime Achievement Award<o:p></o:p></strong></span></p> <p class="MsoNormal" style="MARGIN: 0in 0in 0pt 0.25in\; TEXT-INDENT: -0.25in\; mso-list: l0 level1 lfo1"><span><strong><span style="mso-list: Ignore">10.<span style="FONT: 7pt &quot\;Times New Roman&quot\;"> </span></span>Old Business<o:p></o:p></strong></span></p> <p class="MsoNormal" style="MARGIN: 0in 0in 0pt 0.25in\; TEXT-INDENT: -0.25in\; mso-list: l0 level1 lfo1"><span><strong><span style="mso-list: Ignore">11.<span style="FONT: 7pt &quot\;Times New Roman&quot\;"> </span></span>New Business - New Home Buyers expo<o:p></o:p></strong></span></p> <span style="FONT-SIZE: 10pt\; FONT-FAMILY: &quot\;Comic Sans MS&quot\;\; mso-fareast-font-family: 'Times New Roman'\; mso-bidi-font-family: 'Comic Sans MS'\; mso-ansi-language: EN-US\; mso-fareast-language: EN-US\; mso-bidi-language: AR-SA"><strong>Adjournment</strong></span>
LOCATION:BLSJ Cherry Hill\, NJ 08034
UID:e.9292.819
SEQUENCE:3
DTSTAMP:20260421T235817Z
URL:https://members.blsj.com/events/details/sales-marketing-committee-meeting-10-04-2006-10-04-2006-819
END:VEVENT

END:VCALENDAR
