BEGIN:VCALENDAR
VERSION:2.0
PRODID:-//ChamberMaster//Event Calendar 2.0//EN
METHOD:PUBLISH
X-PUBLISHED-TTL:P3D
REFRESH-INTERVAL:P3D
CALSCALE:GREGORIAN
BEGIN:VEVENT
DTSTART:20090819T160000Z
DTEND:20090819T160000Z
X-MICROSOFT-CDO-ALLDAYEVENT:FALSE
SUMMARY:Sales & Marketing Committee Meeting - 08/19/2009
DESCRIPTION:Agenda: 1. MAME\n     a. Sponsorships\n     b. Judges Needed\n     c. Call to Entries\n     d. Misc.
X-ALT-DESC;FMTTYPE=text/html:<p>Agenda:</p> <p>1. MAME<br /> &nbsp\;&nbsp\;&nbsp\; a. Sponsorships<br /> &nbsp\;&nbsp\;&nbsp\; b. Judges Needed<span id="fck_dom_range_temp_1249497330046_453" /><br /> &nbsp\;&nbsp\;&nbsp\; c. Call to Entries<br /> &nbsp\;&nbsp\;&nbsp\; d. Misc.</p>
LOCATION:114 Haddontowne Court Cherry Hill\, NJ
UID:e.9292.552
SEQUENCE:3
DTSTAMP:20260422T040344Z
URL:https://members.blsj.com/events/details/sales-marketing-committee-meeting-08-19-2009-08-19-2009-552
END:VEVENT

END:VCALENDAR
