BEGIN:VCALENDAR
VERSION:2.0
PRODID:-//ChamberMaster//Event Calendar 2.0//EN
METHOD:PUBLISH
X-PUBLISHED-TTL:P3D
REFRESH-INTERVAL:P3D
CALSCALE:GREGORIAN
BEGIN:VEVENT
DTSTART:20060301T230000Z
DTEND:20060301T230000Z
X-MICROSOFT-CDO-ALLDAYEVENT:FALSE
SUMMARY:Sales & Marketing Committee Meeting - 03/01/2006
DESCRIPTION:AGENDA:                 1.   Membership Breakfast Re-cap 2.   Adoption of February 1\, 2006 Minutes 3.   SMC Board Introductions 4.   SMC Calendar 2006 The Buyer Seller Dance & Who Leads - Mark Baum\, Shulman & Associates/Sandler Sales Training/ March 30th See attached flyer for additional seminars 5.   SMC Membership Drive a.   Mame  Venues  Call for Entries 6.   The "Scoop" Newsletter Update 6.    Mary Danielsen idea for marketing seminar     7.    Old business 8.    New business    NJBA Member Mobilization  9.    Next Meeting:  April 5\, 2006 at 9:30 a.m. 10.  Adjournment
X-ALT-DESC;FMTTYPE=text/html:AGENDA:                 1.   Membership Breakfast Re-cap 2.   Adoption of February 1\, 2006 Minutes 3.   SMC Board Introductions 4.   SMC Calendar 2006 The Buyer Seller Dance & Who Leads - Mark Baum\, Shulman & Associates/Sandler Sales Training/ March 30th See attached flyer for additional seminars 5.   SMC Membership Drive a.   Mame  Venues  Call for Entries 6.   The "Scoop" Newsletter Update 6.    Mary Danielsen idea for marketing seminar     7.    Old business 8.    New business    NJBA Member Mobilization  9.    Next Meeting:  April 5\, 2006 at 9:30 a.m. 10.  Adjournment 
LOCATION:BLSJ Cherry Hill\, NJ 08034
UID:e.9292.1342
SEQUENCE:3
DTSTAMP:20260421T135011Z
URL:https://members.blsj.com/events/details/sales-marketing-committee-meeting-03-01-2006-03-01-2006-1342
END:VEVENT

END:VCALENDAR
