BEGIN:VCALENDAR
VERSION:2.0
PRODID:-//ChamberMaster//Event Calendar 2.0//EN
METHOD:PUBLISH
X-PUBLISHED-TTL:P3D
REFRESH-INTERVAL:P3D
CALSCALE:GREGORIAN
BEGIN:VEVENT
DTSTART:20060201T230000Z
DTEND:20060201T230000Z
X-MICROSOFT-CDO-ALLDAYEVENT:FALSE
SUMMARY:Sales & Marketing Committee Meeting - 02/01/2006
DESCRIPTION:AGENDA:                 1.   Membership Breakfast - PLEASE JOIN US  - OPEN TO ALL SMCMEMBERS 2.   Adoption of January 4\, 2006 Minutes 3.   SMC Board Introductions 4.   SMC Calendar 2006 5.   SMC Membership Drive a.   Education Classes  b.   Mame c.   The "Scoop" Newsletter Update 6.             Mary Danielsen idea for marketing seminar     7.   Old business 8.   New business 9.   Next Meeting:  March 1\, 2006 at 9:30 a.m. 10.   Adjournment
X-ALT-DESC;FMTTYPE=text/html:AGENDA:                 1.   Membership Breakfast - PLEASE JOIN US  - OPEN TO ALL SMCMEMBERS 2.   Adoption of January 4\, 2006 Minutes 3.   SMC Board Introductions 4.   SMC Calendar 2006 5.   SMC Membership Drive a.   Education Classes  b.   Mame c.   The "Scoop" Newsletter Update 6.             Mary Danielsen idea for marketing seminar     7.   Old business 8.   New business 9.   Next Meeting:  March 1\, 2006 at 9:30 a.m. 10.   Adjournment  
LOCATION:BLSJ Cherry Hill\, NJ 08034
UID:e.9292.821
SEQUENCE:3
DTSTAMP:20260421T135018Z
URL:https://members.blsj.com/events/details/sales-marketing-committee-meeting-02-01-2006-02-01-2006-821
END:VEVENT

END:VCALENDAR
