BEGIN:VCALENDAR
VERSION:2.0
PRODID:-//ChamberMaster//Event Calendar 2.0//EN
METHOD:PUBLISH
X-PUBLISHED-TTL:P3D
REFRESH-INTERVAL:P3D
CALSCALE:GREGORIAN
BEGIN:VEVENT
DTSTART:20050125T230000Z
DTEND:20050125T230000Z
X-MICROSOFT-CDO-ALLDAYEVENT:FALSE
SUMMARY:Residential Waterproofing Techniques & Technology
DESCRIPTION:Speakers: Bill Hoffman\, National Waterproofing\, Inc
X-ALT-DESC;FMTTYPE=text/html:Speakers: Bill Hoffman\, National Waterproofing\, Inc
LOCATION:BLSJ Cherry Hill\, NJ 08034
UID:e.9292.1415
SEQUENCE:3
DTSTAMP:20260420T195829Z
URL:https://members.blsj.com/events/details/residential-waterproofing-techniques-technology-01-25-2005-1415
END:VEVENT

END:VCALENDAR
