BEGIN:VCALENDAR
VERSION:2.0
PRODID:-//ChamberMaster//Event Calendar 2.0//EN
METHOD:PUBLISH
X-PUBLISHED-TTL:P3D
REFRESH-INTERVAL:P3D
CALSCALE:GREGORIAN
BEGIN:VEVENT
DTSTART:20100727T160000Z
DTEND:20100727T160000Z
X-MICROSOFT-CDO-ALLDAYEVENT:FALSE
SUMMARY:Remodelers Council Meeting - NO MEETING IN JULY
DESCRIPTION:Next meeting Tuesday\, August 24th at 8:00 a.m.
X-ALT-DESC;FMTTYPE=text/html:<p>Next meeting Tuesday\, August 24th at 8:00 a.m.</p>
LOCATION:\,
UID:e.9292.1532
SEQUENCE:3
DTSTAMP:20260421T132859Z
URL:https://members.blsj.com/events/details/remodelers-council-meeting-no-meeting-in-july-07-27-2010-1532
END:VEVENT

END:VCALENDAR
