BEGIN:VCALENDAR
VERSION:2.0
PRODID:-//ChamberMaster//Event Calendar 2.0//EN
METHOD:PUBLISH
X-PUBLISHED-TTL:P3D
REFRESH-INTERVAL:P3D
CALSCALE:GREGORIAN
BEGIN:VEVENT
DTSTART:20100610T160000Z
DTEND:20100610T160000Z
X-MICROSOFT-CDO-ALLDAYEVENT:FALSE
SUMMARY:Remodelers Council Meeting - Guest Speaker: Phil Rea R2R Associates
DESCRIPTION:TO: Remodelers Council Board Meeting SUBJECT: Committee Meeting FROM: Howard Kohn\, Chairman DATE: Thursday\, June 10\, 2010 TIME: 8:00 a.m. PLACE: League Office\n \n AGENDA:\n 1. Financial Review   J. Cipriani\n 2. Remodelers PR Update\n 3. Special Presention: Phil Rea\, R2R Associates\, LLC - "How to Use eMarketing to Make a Sale TODAY"!\n 4. Re-cap   May 26th General Membership Meeting\n 5. Membership Recruitment\n 6. Remodelers' Council events for 2010   Calendar Attached Seminar Overview: REMODELERS COUNCIL\n COMMITTEE MEETING & SPECIAL PROGRAM How to use eMarketing to Make a Sale TODAY! GUEST SPEAKER: Phil Rea\, R2R Associates\n When: Thursday\, June 10\, 2010\n Time: 8:00 a.m.\n Where: Builders League of South Jersey What is eMarketing and how is it better than traditional marketing? How can it Benefit Your Business? eMarketing gives businesses of any size access to the mass market at an affordable price and\, unlike TV or print advertising\,\n it allows truly personalized marketing. eMarketing isn't just for techies or the big guys  eMarketing allows you to even the playing field  eMarketing will help you generate more qualified leads eMarketing will help you take your business to the next level If you want the whole story Join us Thursday\, June 10th at 8:00 a.m.
X-ALT-DESC;FMTTYPE=text/html:<p>TO: Remodelers Council Board Meeting</p> <p>SUBJECT: Committee Meeting</p> <p>FROM: Howard Kohn\, Chairman</p> <p>DATE: Thursday\, June 10\, 2010</p> <p>TIME: 8:00 a.m.</p> <p>PLACE: League Office<br /> <br /> AGENDA:<br /> 1. Financial Review &ndash\; J. Cipriani<br /> 2. Remodelers PR Update<br /> 3. <span style="color: #ff0000">Special Presention: Phil Rea\, R2R Associates\, LLC - &quot\;How to Use eMarketing to Make a Sale TODAY&quot\;!<br /> </span><span style="color: #000000">4. Re-cap &ndash\; May 26th General Membership Meeting</span><br /> 5. Membership Recruitment<br /> 6. Remodelers&rsquo\; Council events for 2010 &ndash\; Calendar Attached</p> <p>Seminar Overview:</p> <p>REMODELERS COUNCIL<br /> COMMITTEE MEETING &amp\; SPECIAL PROGRAM</p> <p>How to use eMarketing to Make a Sale TODAY!</p> <p>GUEST SPEAKER: Phil Rea\, R2R Associates<br /> When: Thursday\, June 10\, 2010<br /> Time: 8:00 a.m.<br /> Where: Builders League of South Jersey</p> <p>What is eMarketing and how is it better than traditional marketing?</p> <p>How can it Benefit Your Business?</p> <p>eMarketing gives businesses of any size access to the mass market at an affordable price and\, unlike TV or print advertising\,<br /> it allows truly personalized marketing.</p> <p>eMarketing isn&rsquo\;t just for techies or the big guys&hellip\;</p> <p>eMarketing allows you to even the playing field&hellip\;</p> <p>eMarketing will help you generate more qualified leads</p> <p>eMarketing will help you take your business to the next level</p> <p>If you want the whole story&hellip\;Join us Thursday\, June 10th at 8:00 a.m.<br /> <br /> <br /> &nbsp\;</p>
LOCATION:114 Haddontowne Court Cherry Hill\, NJ 08034
UID:e.9292.1327
SEQUENCE:3
DTSTAMP:20260421T132912Z
URL:https://members.blsj.com/events/details/remodelers-council-meeting-guest-speaker-phil-rea-r2r-associates-06-10-2010-1327
END:VEVENT

END:VCALENDAR
