BEGIN:VCALENDAR
VERSION:2.0
PRODID:-//ChamberMaster//Event Calendar 2.0//EN
METHOD:PUBLISH
X-PUBLISHED-TTL:P3D
REFRESH-INTERVAL:P3D
CALSCALE:GREGORIAN
BEGIN:VEVENT
DTSTART:20100928T160000Z
DTEND:20100928T160000Z
X-MICROSOFT-CDO-ALLDAYEVENT:FALSE
SUMMARY:Remodelers Council Meeting - 09/28/2010
DESCRIPTION:MEMORANDUM: TO: Remodelers Council Board Meeting SUBJECT: Committee Meeting FROM: Mark Evans\, Chairman DATE: Tuesday\, September 28\, 2010 TIME: 8:00 a.m. PLACE: League Office\n \n AGENDA:\n 1. Financial Review   J. Cipriani\n 2. CAB\n 3. Good Sam \n a. Request: Lynn & Allen Dehate - attachments\n 4. Membership Recruitment\n 5. Remodelers' Council events for 2010 \n September 15th   Speaker: Bill Asdal\, Asdal Builders\n 6:00 p.m.   Lucien's Manor October 12th   Speaker: Bill Rauser\n 5:30 p.m.   BLSJ Office October 20th - Program: Associate Expo Table Top Night\n 6:00 p.m.   Lucien's Manor November 10th   MAME Awards (Major Achievements in Marketing Excellence)\n 5:30 p.m.   Merion Caterers\, Route 130\, Cinnaminson November 17th   General Membership Meeting\n Speaker: Jim Cory\, Remodeler Magazine   Topic: \n "What's Ahead for Remodeling   A Review of Trends\, Drivers and Demand for Remodeling"\n 6:00 p.m.   Lucien's Manor December 15th   Installation of 2011 Officers & Board of Directors/Holiday Party\n 6:00 p.m. - Mansion on Main Street\n \n 6. Ideas for 2011   Events\, Meetings\, Speakers etc.
X-ALT-DESC;FMTTYPE=text/html:<p>MEMORANDUM:</p> <p>TO: Remodelers Council Board Meeting</p> <p>SUBJECT: Committee Meeting</p> <p>FROM: Mark Evans\, Chairman</p> <p>DATE: Tuesday\, September 28\, 2010</p> <p>TIME: 8:00 a.m.</p> <p>PLACE: League Office<br /> <br /> AGENDA:<br /> 1. Financial Review &ndash\; J. Cipriani<br /> 2. CAB<br /> 3. Good Sam <br /> a. Request: Lynn &amp\; Allen Dehate - attachments<br /> 4. Membership Recruitment<br /> 5. Remodelers&rsquo\; Council events for 2010 <br /> September 15th &ndash\; Speaker: Bill Asdal\, Asdal Builders<br /> 6:00 p.m. &ndash\; Lucien&rsquo\;s Manor</p> <p>October 12th &ndash\; Speaker: Bill Rauser<br /> 5:30 p.m. &ndash\; BLSJ Office</p> <p>October 20th - Program: Associate Expo Table Top Night<br /> 6:00 p.m. &ndash\; Lucien&rsquo\;s Manor</p> <p>November 10th &ndash\; MAME Awards (Major Achievements in Marketing Excellence)<br /> 5:30 p.m. &ndash\; Merion Caterers\, Route 130\, Cinnaminson</p> <p>November 17th &ndash\; General Membership Meeting<br /> Speaker: Jim Cory\, Remodeler Magazine &ndash\; Topic: <br /> &ldquo\;What&rsquo\;s Ahead for Remodeling &ndash\; A Review of Trends\, Drivers and Demand for Remodeling&rdquo\;<br /> 6:00 p.m. &ndash\; Lucien&rsquo\;s Manor</p> <p>December 15th &ndash\; Installation of 2011 Officers &amp\; Board of Directors/Holiday Party<br /> 6:00 p.m. - Mansion on Main Street<br /> <br /> 6. Ideas for 2011 &ndash\; Events\, Meetings\, Speakers etc. <br /> &nbsp\;</p>
LOCATION:114 Haddontowne Court Cherry Hill\, NJ 08034
UID:e.9292.1413
SEQUENCE:3
DTSTAMP:20260421T093119Z
URL:https://members.blsj.com/events/details/remodelers-council-meeting-09-28-2010-09-28-2010-1413
END:VEVENT

END:VCALENDAR
