BEGIN:VCALENDAR
VERSION:2.0
PRODID:-//ChamberMaster//Event Calendar 2.0//EN
METHOD:PUBLISH
X-PUBLISHED-TTL:P3D
REFRESH-INTERVAL:P3D
CALSCALE:GREGORIAN
BEGIN:VEVENT
DTSTART:20100824T160000Z
DTEND:20100824T160000Z
X-MICROSOFT-CDO-ALLDAYEVENT:FALSE
SUMMARY:Remodelers Council Meeting - 08/24/2010
DESCRIPTION:TO: Remodelers Council Board Meeting SUBJECT: Committee Meeting FROM: Mark Evans\, Chairman DATE: Tuesday\, August 24\, 2010 TIME: 8:00 a.m. PLACE: League Office\n \n AGENDA:\n 1. Financial Review   J. Cipriani\n 2. Guest Speaker: Dan Goldstein\, Insurance Adjustment Agency\n 3. CAB\n 4. Good Sam \n 5. Membership Recruitment\n 6. Remodelers' Council events for 2010 \n September 15th   Speaker: Bill Asdal\, Asdal Builders\n 6:00 p.m.   Lucien's Manor\n October 20th - Program: Associate Expo Table Top Night\n 6:00 p.m.   Lucien's Manor\n November 10th   MAME Awards (Major Achievements in Marketing Excellence)\n 5:30 p.m.   Merion Caterers\, Route 130\, Cinnaminson\n November 17th   General Membership Meeting\n Speaker: Jim Cory\, Remodeler Magazine (tentative)\n 6:00 p.m.   Lucien's Manor\n December 15th   Installation of 2011 Officers & Board of Directors/Holiday Party\n 6:00 p.m. - Mansion on Main Street
X-ALT-DESC;FMTTYPE=text/html:<p>TO: Remodelers Council Board Meeting</p> <p>SUBJECT: Committee Meeting</p> <p>FROM: Mark Evans\, Chairman</p> <p>DATE: Tuesday\, August 24\, 2010</p> <p>TIME: 8:00 a.m.</p> <p>PLACE: League Office<br /> <br /> AGENDA:<br /> 1. Financial Review &ndash\; J. Cipriani<br /> 2. Guest Speaker: Dan Goldstein\, Insurance Adjustment Agency<br /> 3. CAB<br /> 4. Good Sam <br /> 5. Membership Recruitment<br /> 6. Remodelers&rsquo\; Council events for 2010 <br /> <strong>September 15th &ndash\; Speaker: Bill Asdal\, Asdal Builders<br /> </strong>6:00 p.m. &ndash\; Lucien&rsquo\;s Manor<br /> <strong>October 20th - Program: Associate Expo Table Top Night<br /> </strong>6:00 p.m. &ndash\; Lucien&rsquo\;s Manor<br /> <strong>November 10th &ndash\; MAME Awards (Major Achievements in Marketing Excellence)<br /> </strong>5:30 p.m. &ndash\; Merion Caterers\, Route 130\, Cinnaminson<br /> <strong>November 17th &ndash\; General Membership Meeting</strong><br /> Speaker: Jim Cory\, Remodeler Magazine (tentative)<br /> 6:00 p.m. &ndash\; Lucien&rsquo\;s Manor<br /> <strong>December 15th &ndash\; Installation of 2011 Officers &amp\; Board of Directors/Holiday Party</strong><br /> 6:00 p.m. - Mansion on Main Street</p> <p><br /> &nbsp\;</p>
LOCATION:114 Haddontowne Court Cherry Hill\, NJ 08034
UID:e.9292.1530
SEQUENCE:3
DTSTAMP:20260421T104635Z
URL:https://members.blsj.com/events/details/remodelers-council-meeting-08-24-2010-08-24-2010-1530
END:VEVENT

END:VCALENDAR
