BEGIN:VCALENDAR
VERSION:2.0
PRODID:-//ChamberMaster//Event Calendar 2.0//EN
METHOD:PUBLISH
X-PUBLISHED-TTL:P3D
REFRESH-INTERVAL:P3D
CALSCALE:GREGORIAN
BEGIN:VEVENT
DTSTART:20100421T160000Z
DTEND:20100421T160000Z
X-MICROSOFT-CDO-ALLDAYEVENT:FALSE
SUMMARY:Remodelers Council Get Acquainted Welcome Reception at Treno's
DESCRIPTION:v\\:* {behavior:url(#default#VML)\;} o\\:* {behavior:url(#default#VML)\;} b\\:* {behavior:url(#default#VML)\;} .shape {behavior:url(#default#VML)\;}    285  7772400 10058400  259 261 257 280 262 283 1 09BY\;-5[-RTB?[]Y"U*U=Y0 5 1 0   286 False 0 0      -1    304800 243 True 128 77 255 3175 3175 70 True True True True True   282  134217728    1   1 -9999996.000000 -9999996.000000     8  Empty Empty  16777215   16777215   16777215   16711680   10027110   16777215   58 Black & White     -87325200 -87325200  (`@````````` 267 263 5                        JOIN US FOR \n COCKTAILS & HORS D'OEUVRES & FUN  AS WE WELCOME THE \n REMODELERS COUNCIL \n TO THE BUILDERS LEAGUE OF SOUTH JERSEY   DATE: WEDNESDAY\, APRIL 21\, 2010   TIME: 6:00 P.M. 8:00 P.M.   LOCATION: \n TRENO'S 233 HADDON AVENUE WESTMONT\, NJ   COST PER PERSON: $ 10.00 One Complimentary Drink Ticket Per Person Drawing for:  Makita Brand Magnesium 71/4" Circular Saw w/Case  \n Bring your Business Cards for the Drawing & Networking   RSVP by April 16th 2010
X-ALT-DESC;FMTTYPE=text/html:<p> <meta http-equiv="Content-Type" content="text/html\; charset=utf-8"> <meta name="ProgId" content="Publisher.Document"> <meta name="Generator" content="Microsoft Publisher 11"> <link href="file:///C:\\DOCUME~1\\Marlene\\LOCALS~1\\Temp\\msohtml1\\01\\clip_filelist.xml" rel="File-List" /><!--[if !mso]> <style> v\\:* {behavior:url(#default#VML)\;} o\\:* {behavior:url(#default#VML)\;} b\\:* {behavior:url(#default#VML)\;} .shape {behavior:url(#default#VML)\;} </style> <![endif]--><!--[if pub]><xml> <b:Publication type="OplPub" oty="68" oh="256"> <b:OhPrintBlock priv="30E">285</b:OhPrintBlock> <b:DptlPageDimensions type="OplPt" priv="1211"> <b:Xl priv="104">7772400</b:Xl> <b:Yl priv="204">10058400</b:Yl> </b:DptlPageDimensions> <b:OhGallery priv="180E">259</b:OhGallery> <b:OhFancyBorders priv="190E">261</b:OhFancyBorders> <b:OhCaptions priv="1A0E">257</b:OhCaptions> <b:OhQuillDoc priv="200E">280</b:OhQuillDoc> <b:OhMailMergeData priv="210E">262</b:OhMailMergeData> <b:OhColorScheme priv="220E">283</b:OhColorScheme> <b:DwNextUniqueOid priv="2304">1</b:DwNextUniqueOid> <b:IdentGUID priv="2A07">09BY\;-5[-RTB?[]Y&quot\;U*U=Y0</b:IdentGUID> <b:DpgSpecial priv="2C03">5</b:DpgSpecial> <b:CTimesEdited priv="3C04">1</b:CTimesEdited> <b:NuDefaultUnitsEx priv="4104">0</b:NuDefaultUnitsEx> </b:Publication> <b:PrinterInfo type="OplPrb" oty="75" oh="285"> <b:OhColorSepBlock priv="30E">286</b:OhColorSepBlock> <b:FInitComplete priv="1400">False</b:FInitComplete> <b:DpiX priv="2203">0</b:DpiX> <b:DpiY priv="2303">0</b:DpiY> </b:PrinterInfo> <b:ColorSeperationInfo type="OplCsb" oty="79" oh="286"> <b:Plates type="OplCsp" priv="214"> <b:OplCsp type="OplCsp" priv="11"> <b:EcpPlate type="OplEcp" priv="213"> <b:Color priv="104">-1</b:Color> </b:EcpPlate> </b:OplCsp> </b:Plates> <b:DzlOverprintMost priv="304">304800</b:DzlOverprintMost> <b:CprOverprintMin priv="404">243</b:CprOverprintMin> <b:FKeepawayTrap priv="700">True</b:FKeepawayTrap> <b:CprTrapMin1 priv="904">128</b:CprTrapMin1> <b:CprTrapMin2 priv="A04">77</b:CprTrapMin2> <b:CprKeepawayMin priv="B04">255</b:CprKeepawayMin> <b:DzlTrap priv="C04">3175</b:DzlTrap> <b:DzlIndTrap priv="D04">3175</b:DzlIndTrap> <b:PctCenterline priv="E04">70</b:PctCenterline> <b:FMarksRegistration priv="F00">True</b:FMarksRegistration> <b:FMarksJob priv="1000">True</b:FMarksJob> <b:FMarksDensity priv="1100">True</b:FMarksDensity> <b:FMarksColor priv="1200">True</b:FMarksColor> <b:FLineScreenDefault priv="1300">True</b:FLineScreenDefault> </b:ColorSeperationInfo> <b:TextDocProperties type="OplDocq" oty="91" oh="280"> <b:OhPlcqsb priv="20E">282</b:OhPlcqsb> <b:EcpSplitMenu type="OplEcp" priv="A13"> <b:Color>134217728</b:Color> </b:EcpSplitMenu> </b:TextDocProperties> <b:StoryBlock type="OplPlcQsb" oty="101" oh="282"> <b:IqsbMax priv="104">1</b:IqsbMax> <b:Rgqsb type="OplQsb" priv="214"> <b:OplQsb type="OplQsb" priv="11"> <b:Qsid priv="104">1</b:Qsid> <b:TomfCopyfitBase priv="80B">-9999996.000000</b:TomfCopyfitBase> <b:TomfCopyfitBase2 priv="90B">-9999996.000000</b:TomfCopyfitBase2> </b:OplQsb> </b:Rgqsb> </b:StoryBlock> <b:ColorScheme type="OplSccm" oty="92" oh="283"> <b:Cecp priv="104">8</b:Cecp> <b:Rgecp type="OplEcp" priv="214"> <b:OplEcp priv="F">Empty</b:OplEcp> <b:OplEcp priv="10F">Empty</b:OplEcp> <b:OplEcp type="OplEcp" priv="211"> <b:Color>16777215</b:Color> </b:OplEcp> <b:OplEcp type="OplEcp" priv="311"> <b:Color>16777215</b:Color> </b:OplEcp> <b:OplEcp type="OplEcp" priv="411"> <b:Color>16777215</b:Color> </b:OplEcp> <b:OplEcp type="OplEcp" priv="511"> <b:Color>16711680</b:Color> </b:OplEcp> <b:OplEcp type="OplEcp" priv="611"> <b:Color>10027110</b:Color> </b:OplEcp> <b:OplEcp type="OplEcp" priv="711"> <b:Color>16777215</b:Color> </b:OplEcp> </b:Rgecp> <b:IScheme priv="304">58</b:IScheme> <b:SzSchemeName priv="618">Black &amp\; White</b:SzSchemeName> </b:ColorScheme> </xml><![endif]--><!--[if pub]><xml> <b:Page type="OplPd" oty="67" oh="266"> <b:PtlvOrigin type="OplPt" priv="511"> <b:Xl>-87325200</b:Xl> <b:Yl>-87325200</b:Yl> </b:PtlvOrigin> <b:Oid priv="605">(`@`````````</b:Oid> <b:OhoplWebPageProps priv="90E">267</b:OhoplWebPageProps> <b:OhpdMaster priv="D0D">263</b:OhpdMaster> <b:PgtType priv="1004">5</b:PgtType> </b:Page> </xml><![endif]--><style type="text/css"> <!--  /* Font Definitions */ @font-face    {font-family:"Times New Roman"\;    mso-font-charset:0\;    mso-generic-font-family:roman\;    mso-font-pitch:variable\;    panose-1:2 2 6 3 5 4 5 2 3 4\;    mso-font-signature:31367 -2147483648 8 0 1073742335 -65536\;}  /* Style Definitions */ p.MsoNormal\, li.MsoNormal\, div.MsoNormal    {mso-style-parent:""\;    text-indent:0pt\;    margin-left:0pt\;    margin-right:0pt\;    margin-top:0pt\;    margin-bottom:0pt\;    text-align:left\;    font-family:"Times New Roman"\;    mso-default-font-family:"Times New Roman"\;    mso-ascii-font-family:"Times New Roman"\;    mso-latin-font-family:"Times New Roman"\;    mso-greek-font-family:"Times New Roman"\;    mso-cyrillic-font-family:"Times New Roman"\;    mso-armenian-font-family:Sylfaen\;    mso-hebrew-font-family:"Times New Roman"\;    mso-arabic-font-family:"Times New Roman"\;    mso-devanagari-font-family:Mangal\;    mso-bengali-font-family:Vrinda\;    mso-gurmukhi-font-family:Raavi\;    mso-oriya-font-family:Sendnya\;    mso-tamil-font-family:Latha\;    mso-telugu-font-family:Gautami\;    mso-kannada-font-family:Tunga\;    mso-thai-font-family:"Angsana New"\;    mso-georgian-font-family:Sylfaen\;    mso-hangul-font-family:Batang\;    mso-kana-font-family:"MS Mincho"\;    mso-bopomofo-font-family:PMingLiU\;    mso-han-font-family:SimSun\;    mso-halfwidthkana-font-family:"MS Mincho"\;    mso-syriac-font-family:"Estrangelo Edessa"\;    mso-thaana-font-family:"MV Boli"\;    mso-latinext-font-family:"Times New Roman"\;    font-size:10.0pt\;    color:black\;    mso-font-kerning:14.0pt\;    mso-char-tracking:100%\;    mso-font-width:100%\;} ol    {margin-top:0in\;    margin-bottom:0in\;    margin-left:.25in\;} ul    {margin-top:0in\;    margin-bottom:0in\;    margin-left:.25in\;} @page    {mso-hyphenate:auto\;} --> </style><!--[if gte mso 9]><xml> <o:shapedefaults v:ext="edit" spidmax="3075" fill="f" fillcolor="white [7]" strokecolor="black [0]"> <v:fill color="white [7]" color2="white [7]" on="f" /> <v:stroke color="black [0]" color2="white [7]"> <o:left v:ext="view" color="black [0]" color2="white [7]" /> <o:top v:ext="view" color="black [0]" color2="white [7]" /> <o:right v:ext="view" color="black [0]" color2="white [7]" /> <o:bottom v:ext="view" color="black [0]" color2="white [7]" /> <o:column v:ext="view" color="black [0]" color2="white [7]" /> </v:stroke> <v:shadow color="white [4]" /> <v:textbox inset="2.88pt\,2.88pt\,2.88pt\,2.88pt" /> <o:colormenu v:ext="edit" fillcolor="black [1]" strokecolor="black [0]" shadowcolor="white [4]" /> </o:shapedefaults><o:shapelayout v:ext="edit"> <o:idmap v:ext="edit" data="1" /> </o:shapelayout></xml><![endif]--></meta> </meta> </meta> </p> <p class="MsoNormal" style="text-align: center\;"><span style="font-size: 14pt\;"><!--[if !supportEmptyParas]--> </span><strong><span style="font-size: 12pt\;">JOIN US FOR <br /> COCKTAILS &amp\; HORS D&rsquo\;OEUVRES &amp\; FUN </span></strong><span style="font-size: 12pt\;"><o:p></o:p></span></p> <p class="MsoNormal" style="text-align: center\;"><strong><span style="font-size: 12pt\;">AS WE WELCOME THE <br /> REMODELERS COUNCIL <br /> TO THE BUILDERS LEAGUE OF SOUTH JERSEY</span></strong><span style="font-size: 12pt\;"><o:p></o:p></span></p> <p class="MsoNormal" style=""><span style="font-size: 14pt\;"><!--[if !supportEmptyParas]-->&nbsp\;<strong><!--[endif]--></strong><o:p></o:p></span></p> <p class="MsoNormal" style="text-align: center\;"><strong><span style="font-size: 12pt\;">DATE: WEDNESDAY\, APRIL 21\, 2010</span></strong><span style="font-size: 12pt\;"><o:p></o:p></span></p> <p class="MsoNormal" style="text-align: center\;"><span style="font-size: 12pt\;"><!--[if !supportEmptyParas]-->&nbsp\;<!--[endif]--><o:p></o:p></span></p> <p class="MsoNormal" style="text-align: center\;"><strong><span style="font-size: 12pt\;">TIME: 6:00 P.M.&mdash\;8:00 P.M.</span></strong><span style="font-size: 12pt\;"><o:p></o:p></span></p> <p class="MsoNormal" style="text-align: center\;"><span style="font-size: 12pt\;"><!--[if !supportEmptyParas]-->&nbsp\;<!--[endif]--><o:p></o:p></span></p> <p class="MsoNormal" style="text-align: center\;"><strong><span style="font-size: 12pt\;">LOCATION: <br /> TRENO&rsquo\;S</span></strong><span style="font-size: 12pt\;"><o:p></o:p></span></p> <p class="MsoNormal" style="text-align: center\;"><strong><span style="font-size: 12pt\;">233 HADDON AVENUE</span></strong><span style="font-size: 12pt\;"><o:p></o:p></span></p> <p class="MsoNormal" style="text-align: center\;"><strong><span style="font-size: 12pt\;">WESTMONT\, NJ</span></strong><span style="font-size: 12pt\;"><o:p></o:p></span></p> <p class="MsoNormal" style="text-align: center\;"><span style="font-size: 12pt\;"><!--[if !supportEmptyParas]-->&nbsp\;<!--[endif]--><o:p></o:p></span></p> <p class="MsoNormal" style="text-align: center\;"><strong><span style="font-size: 12pt\;">COST PER PERSON: $ 10.00</span></strong><span style="font-size: 12pt\;"><o:p></o:p></span></p> <p class="MsoNormal" style="text-align: center\;"><strong><span style="font-size: 12pt\;">One Complimentary Drink Ticket Per Person</span></strong><span style="font-size: 12pt\;"><o:p></o:p></span></p> <p class="MsoNormal" style="text-align: center\;"><span style="font-size: 12pt\;">Drawing for: <o:p></o:p></span></p> <p class="MsoNormal" style="text-align: center\;"><span style="font-size: 12pt\;">Makita Brand&mdash\;Magnesium 71/4&rdquo\; Circular Saw w/Case<o:p></o:p></span></p> <p class="MsoNormal" style="text-align: center\;"><span style="font-size: 12pt\;"><!--[if !supportEmptyParas]--> <strong><br /> Bring your Business Cards for the Drawing &amp\; Networking</strong><o:p></o:p></span></p> <p class="MsoNormal" style="text-align: center\;"><span style="font-size: 12pt\;"><!--[if !supportEmptyParas]--><strong>&nbsp\;<!--[endif]--></strong><o:p></o:p></span></p> <p class="MsoNormal" style="text-align: center\;"><strong><span style="font-size: 12pt\;">RSVP by April 16th 2010</span></strong><span style="font-size: 12pt\;"><o:p></o:p></span></p> <p class="MsoNormal" style=""><span style="font-size: 12pt\;"><span style=""> </span></span><span style=""><o:p></o:p></span></p>
LOCATION:Treno 233 Haddon Avenue\, Haddon Township\, \, NJ 08108
UID:e.9292.1529
SEQUENCE:3
DTSTAMP:20260421T180226Z
URL:https://members.blsj.com/events/details/remodelers-council-get-acquainted-welcome-reception-at-treno-s-04-21-2010-1529
END:VEVENT

END:VCALENDAR
