BEGIN:VCALENDAR
VERSION:2.0
PRODID:-//ChamberMaster//Event Calendar 2.0//EN
METHOD:PUBLISH
X-PUBLISHED-TTL:P3D
REFRESH-INTERVAL:P3D
CALSCALE:GREGORIAN
BEGIN:VEVENT
DTSTART:20100526T160000Z
DTEND:20100526T160000Z
X-MICROSOFT-CDO-ALLDAYEVENT:FALSE
SUMMARY:REMODELERS COUNCIL: General Membership Meeting - Open to ALL BLSJ Members & Guests
DESCRIPTION:General Membership Meeting-Open to ALL BLSJ Members & Guests "What Got You Here...Is No Longer Available" Speaker: Joy Kilgore\, President \n Executive Business Approach Joy will share her insights about the nationwide challenges and what the leading industry professionals are doing to adjust to the current economy.\n   Reposition for a tough economy \n   Grow and diversify your business for long-term sustainability \n   Sales and marketing strategies in a down market   gaining and keeping the greater market share \n   Take your successful business to the next level of excellence \n   Develop and grow a world-class team for optimal performance \n   When the market rebounds and it will will you be prepared?\n If you are in the building business\, whether as a builder\, remodeler\, supplier\, \n sub-contractor or consulting professional The powerful and dynamic nature of the discussions will challenge you to move forward in your business. You will come away with a renewed challenge to win! \n   Joy Kilgore is the President of Executive Business Approach which reaches out to home improvement professionals primarily through PRIME (Professional Remodelers in Management Excellence). PRIME is a select group of the country's top remodeling contractors\, major manufacturers and suppliers to the industry.
X-ALT-DESC;FMTTYPE=text/html:<p style="text-align: center\;"><b><span style="font-size: 18pt\;">General Membership Meeting-Open to ALL BLSJ Members &amp\; Guests</span></b></p> <div align="center" style="margin: auto 0in\; text-align: center\;"><b><span style="font-size: 20pt\;">&ldquo\;What Got You Here...Is No Longer Available&rdquo\;</span></b></div> <div align="center" style="margin: auto 0in\; text-align: center\;"><b><span style="font-size: 20pt\;">Speaker: Joy Kilgore\, President</span></b> <br /> <b><span style="font-size: 14pt\;">Executive Business Approach</span></b></div> <p style="text-align: center\;">Joy will share her insights about the nationwide challenges and what the leading industry professionals are doing to adjust to the current economy.<br /> &bull\; Reposition for a tough economy <br /> &bull\; Grow and diversify your business for long-term sustainability <br /> &bull\; Sales and marketing strategies in a down market &ndash\; gaining and keeping&mdash\;the greater market share <br /> &bull\; Take your successful business to the next level of excellence <br /> &bull\; Develop and grow a world-class team for optimal performance <br /> &bull\; When the market rebounds&mdash\;and it will&mdash\;will you be prepared?<br /> If you are in the building business\, whether as a builder\, remodeler\, supplier\, <br /> sub-contractor or consulting professional</p> <p style="text-align: center\;">The powerful and dynamic nature of the discussions will challenge you to move forward in your business. You will come away with a renewed challenge to win! <br /> &nbsp\;</p> <p style="text-align: center\;">Joy Kilgore is the President of Executive Business Approach which reaches out to home improvement professionals primarily through PRIME (Professional Remodelers in Management Excellence). PRIME is a select group of the country&rsquo\;s top remodeling contractors\, major manufacturers and suppliers to the industry.</p>
LOCATION:81 West White Horse Pike Berlin\, NJ 08009
UID:e.9292.1107
SEQUENCE:3
DTSTAMP:20260421T145647Z
URL:https://members.blsj.com/events/details/remodelers-council-general-membership-meeting-open-to-all-blsj-members-guests-05-26-2010-1107
END:VEVENT

END:VCALENDAR
