BEGIN:VCALENDAR
VERSION:2.0
PRODID:-//ChamberMaster//Event Calendar 2.0//EN
METHOD:PUBLISH
X-PUBLISHED-TTL:P3D
REFRESH-INTERVAL:P3D
CALSCALE:GREGORIAN
BEGIN:VEVENT
DTSTART:20050331T230000Z
DTEND:20050331T230000Z
X-MICROSOFT-CDO-ALLDAYEVENT:FALSE
SUMMARY:Remediation Solutions for Farmland & Brownfields Properties
DESCRIPTION:Speakers: EnviroCraft Corporation  Remediation of Brownfields and Farmland Properties    Ã˜      Overall Cleanup Strategy Considerations Ã˜      Clean Up Options Ã˜      Pros & Cons of Clean Up Options Ã˜      Determining Optimal Remediation Solutions  Ã˜      Applicability of Remedial Alternatives Ã˜      NJ & PA Clean Up Criteria Ã˜      Technology Composition for Contaminants   Ã˜      Proper Sampling & Analytical Testing   Ã˜      Remedial/Clean Up Costs    Ã˜      Risk & Liability Cost & Considerations   Ã˜      Pro-Forma for Remedial Costs Ã˜      Developers Worksheet Ã˜      Overcoming Brownfield Challenges     Ã˜      Interactive Remediation Strategy Optimization     Ã˜      Project Cost Comparisons    Ã˜      EC Case Studies
X-ALT-DESC;FMTTYPE=text/html:Speakers: EnviroCraft Corporation  Remediation of Brownfields and Farmland Properties    Ã˜      Overall Cleanup Strategy Considerations Ã˜      Clean Up Options Ã˜      Pros & Cons of Clean Up Options Ã˜      Determining Optimal Remediation Solutions  Ã˜      Applicability of Remedial Alternatives Ã˜      NJ & PA Clean Up Criteria Ã˜      Technology Composition for Contaminants   Ã˜      Proper Sampling & Analytical Testing   Ã˜      Remedial/Clean Up Costs    Ã˜      Risk & Liability Cost & Considerations   Ã˜      Pro-Forma for Remedial Costs Ã˜      Developers Worksheet Ã˜      Overcoming Brownfield Challenges     Ã˜      Interactive Remediation Strategy Optimization     Ã˜      Project Cost Comparisons    Ã˜      EC Case Studies  
LOCATION:Builders League of South Jersey Office Cherry Hill\, NJ 08034
UID:e.9292.812
SEQUENCE:3
DTSTAMP:20260420T221743Z
URL:https://members.blsj.com/events/details/remediation-solutions-for-farmland-brownfields-properties-03-31-2005-812
END:VEVENT

END:VCALENDAR
