BEGIN:VCALENDAR
VERSION:2.0
PRODID:-//ChamberMaster//Event Calendar 2.0//EN
METHOD:PUBLISH
X-PUBLISHED-TTL:P3D
REFRESH-INTERVAL:P3D
CALSCALE:GREGORIAN
BEGIN:VEVENT
DTSTART:20050413T220000Z
DTEND:20050413T160000Z
X-MICROSOFT-CDO-ALLDAYEVENT:FALSE
SUMMARY:Protecting Yourself From Employee Lawsuits
DESCRIPTION:Any time employee law suits see the inside of a courtroom\, the odds are instantly stacked against the employer. The frightening part for businesses is that employees  win 71% of all employee related claims.  Learn how to protect yourself from employee law suits in this comprehensive seminar.  This seminar is presented by Corey E. Ahart\, Esq.\, of the law firm Marcus Broder Ahart and the information contained herein is intended solely for the use of the members of The  Builders League of South Jersey.
X-ALT-DESC;FMTTYPE=text/html:Any time employee law suits see the inside of a courtroom\, the odds are instantly stacked against the employer. The frightening part for businesses is that employees  win 71% of all employee related claims.  Learn how to protect yourself from employee law suits in this comprehensive seminar.  This seminar is presented by Corey E. Ahart\, Esq.\, of the law firm Marcus Broder Ahart and the information contained herein is intended solely for the use of the members of The  Builders League of South Jersey. 
LOCATION:BLSJ Cherry Hill\, NJ 08034
UID:e.9292.1087
SEQUENCE:3
DTSTAMP:20260420T233807Z
URL:https://members.blsj.com/events/details/protecting-yourself-from-employee-lawsuits-04-13-2005-1087
END:VEVENT

END:VCALENDAR
