BEGIN:VCALENDAR
VERSION:2.0
PRODID:-//ChamberMaster//Event Calendar 2.0//EN
METHOD:PUBLISH
X-PUBLISHED-TTL:P3D
REFRESH-INTERVAL:P3D
CALSCALE:GREGORIAN
BEGIN:VEVENT
DTSTART:20051208T230000Z
DTEND:20051208T170000Z
X-MICROSOFT-CDO-ALLDAYEVENT:FALSE
SUMMARY:Protecting Copyrights-CANCELLED
DESCRIPTION:LAYING THE FOUNDATION FOR PROTECTING YOUR COPYRIGHTS...BEFORE SHOVEL HITS GROUND  THURSDAY\, DECEMBER 8\, 2005  Now that federal copyright law protects the creative aspects of three dimensional structures as well as architectural plans\, the courts are rewarding the creators of unusual designs and punishing those who infringe them.  Flaster/Greenberg attorneys Jeffrey A. Cohen and Dennis J. Helms will discuss the issues confronting builders and architects including:    Determining if your architectural plans should be copyrighted\;    Registering plans and drawings with the U.S. Copyright Office\;    Enforcing your copyrights and\,    Defending against infringement claims. For the parties involved in disputes over plans and drawings\, damages can run into the millions.  For the architect and builder it has\, thus\, become more important than ever to protect these designs.
X-ALT-DESC;FMTTYPE=text/html:LAYING THE FOUNDATION FOR PROTECTING YOUR COPYRIGHTS...BEFORE SHOVEL HITS GROUND  THURSDAY\, DECEMBER 8\, 2005  Now that federal copyright law protects the creative aspects of three dimensional structures as well as architectural plans\, the courts are rewarding the creators of unusual designs and punishing those who infringe them.  Flaster/Greenberg attorneys Jeffrey A. Cohen and Dennis J. Helms will discuss the issues confronting builders and architects including:    Determining if your architectural plans should be copyrighted\;    Registering plans and drawings with the U.S. Copyright Office\;    Enforcing your copyrights and\,    Defending against infringement claims. For the parties involved in disputes over plans and drawings\, damages can run into the millions.  For the architect and builder it has\, thus\, become more important than ever to protect these designs.   
LOCATION:Builders League of South Jersey 114 Haddontowne Ct Cherry Hill\, NJ 08034
UID:e.9292.1526
SEQUENCE:3
DTSTAMP:20260421T110403Z
URL:https://members.blsj.com/events/details/protecting-copyrights-cancelled-12-08-2005-1526
END:VEVENT

END:VCALENDAR
