BEGIN:VCALENDAR
VERSION:2.0
PRODID:-//ChamberMaster//Event Calendar 2.0//EN
METHOD:PUBLISH
X-PUBLISHED-TTL:P3D
REFRESH-INTERVAL:P3D
CALSCALE:GREGORIAN
BEGIN:VEVENT
DTSTART:20060329T230000Z
DTEND:20060329T230000Z
X-MICROSOFT-CDO-ALLDAYEVENT:FALSE
SUMMARY:Principles of Risk Management
DESCRIPTION:Presented by: Michael Buchanan\, 2-10 Homebuyers Warranty  Principles of Risk Management  1. Risk Management Basics     a. Understanding the puzzle of risk     b. Techniques for indentifying and handling 2. Risk Shifting     a. Subcontractor selection     b. Subcontractor work agreements     c. Certificates of Insurance  and understanding them     d. Builder administration of contracts - Sales agreements and more 3. Transfer of Risk     a. Sources of liability to the builder     b. Builder insurance needs      c. Insurance options     d. Warranty programs 4. Risk Assumption     a. Avoidance      b. Self-insurance\, deductibles     c. Limit assumption of risk 5. Risk Reduction     a. Jobsite Safety     b. Quality Control     c. Buyer Relations     d. Customer Service     e. Records and documentation   This seminar is composite of the 9 educational modules.  It is an overview on process of understanding risk and knowing methods available to deal with it.
X-ALT-DESC;FMTTYPE=text/html:Presented by: Michael Buchanan\, 2-10 Homebuyers Warranty  Principles of Risk Management  1. Risk Management Basics     a. Understanding the puzzle of risk     b. Techniques for indentifying and handling 2. Risk Shifting     a. Subcontractor selection     b. Subcontractor work agreements     c. Certificates of Insurance  and understanding them     d. Builder administration of contracts - Sales agreements and more 3. Transfer of Risk     a. Sources of liability to the builder     b. Builder insurance needs      c. Insurance options     d. Warranty programs 4. Risk Assumption     a. Avoidance      b. Self-insurance\, deductibles     c. Limit assumption of risk 5. Risk Reduction     a. Jobsite Safety     b. Quality Control     c. Buyer Relations     d. Customer Service     e. Records and documentation   This seminar is composite of the 9 educational modules.  It is an overview on process of understanding risk and knowing methods available to deal with it. 
LOCATION:Builders League Office Cherry Hill\, NJ 08034
UID:e.9292.1404
SEQUENCE:3
DTSTAMP:20260421T134526Z
URL:https://members.blsj.com/events/details/principles-of-risk-management-03-29-2006-1404
END:VEVENT

END:VCALENDAR
