BEGIN:VCALENDAR
VERSION:2.0
PRODID:-//ChamberMaster//Event Calendar 2.0//EN
METHOD:PUBLISH
X-PUBLISHED-TTL:P3D
REFRESH-INTERVAL:P3D
CALSCALE:GREGORIAN
BEGIN:VEVENT
DTSTART:20040930T220000Z
DTEND:20040930T220000Z
X-MICROSOFT-CDO-ALLDAYEVENT:FALSE
SUMMARY:PREVENTING HARASSMENT IN THE WORKPLACE: The Compliance Requiremen
DESCRIPTION:Presented By:                             Esther Navarrez Certified Trainer\, NJ Department of Law & Public Safety                             Division of Civil Rights  Protect Yourself & Your Company from Multi-Million Dollar             Lawsuits!  Did You Know NJ leads the country in Civil Rights Enforcement in the Courts!  During the last few years there has been a steady stream of lawsuits finding NJ employers liable for sexual harassment based on a lack of an effective anti-harassment policy or failure to conduct a prompt & thorough investigation of alleged misconduct  This is a MUST-ATTEND seminar defining recent NJ Supreme Court mandated changes & current requirements for harassment training & compliance in your organization.  The court said NJ employers must train managers & supervisors and must make training available to other employees if they want to avoid liability.  This class meets all the compliance regulations mandated by the Supreme Court.
X-ALT-DESC;FMTTYPE=text/html:Presented By:                             Esther Navarrez Certified Trainer\, NJ Department of Law & Public Safety                             Division of Civil Rights  Protect Yourself & Your Company from Multi-Million Dollar             Lawsuits!  Did You Know NJ leads the country in Civil Rights Enforcement in the Courts!  During the last few years there has been a steady stream of lawsuits finding NJ employers liable for sexual harassment based on a lack of an effective anti-harassment policy or failure to conduct a prompt & thorough investigation of alleged misconduct  This is a MUST-ATTEND seminar defining recent NJ Supreme Court mandated changes & current requirements for harassment training & compliance in your organization.  The court said NJ employers must train managers & supervisors and must make training available to other employees if they want to avoid liability.  This class meets all the compliance regulations mandated by the Supreme Court.  
LOCATION:BLSJ Cherry Hill\, NJ 08034
UID:e.9292.1524
SEQUENCE:3
DTSTAMP:20260420T151911Z
URL:https://members.blsj.com/events/details/preventing-harassment-in-the-workplace-the-compliance-requiremen-09-30-2004-1524
END:VEVENT

END:VCALENDAR
