BEGIN:VCALENDAR
VERSION:2.0
PRODID:-//ChamberMaster//Event Calendar 2.0//EN
METHOD:PUBLISH
X-PUBLISHED-TTL:P3D
REFRESH-INTERVAL:P3D
CALSCALE:GREGORIAN
BEGIN:VEVENT
DTSTART:20060207T230000Z
DTEND:20060207T230000Z
X-MICROSOFT-CDO-ALLDAYEVENT:FALSE
SUMMARY:PR Advisory Committee
DESCRIPTION:
X-ALT-DESC;FMTTYPE=text/html:
LOCATION:BLSJ Cherry Hill\, NJ 08034
UID:e.9292.1401
SEQUENCE:3
DTSTAMP:20260421T122540Z
URL:https://members.blsj.com/events/details/pr-advisory-committee-02-07-2006-1401
END:VEVENT

END:VCALENDAR
