BEGIN:VCALENDAR
VERSION:2.0
PRODID:-//ChamberMaster//Event Calendar 2.0//EN
METHOD:PUBLISH
X-PUBLISHED-TTL:P3D
REFRESH-INTERVAL:P3D
CALSCALE:GREGORIAN
BEGIN:VEVENT
DTSTART:20061109T230000Z
DTEND:20061109T230000Z
X-MICROSOFT-CDO-ALLDAYEVENT:FALSE
SUMMARY:POSTPONED:Workers Comp. Insurance for Sole Proprietors\, Partners
DESCRIPTION:What a business owner should consider before you elect or reject coverage and how Disability Coverage fits into the decision. Speakers: Anthony Bevalaqua\, Anthony & Company Joseph Murray\, First Financial Group
X-ALT-DESC;FMTTYPE=text/html:What a business owner should consider before you elect or reject coverage and how Disability Coverage fits into the decision. Speakers: Anthony Bevalaqua\, Anthony &amp\; Company Joseph Murray\, First Financial Group
LOCATION:Builders League Cherry Hill\, NJ 08034
UID:e.9292.777
SEQUENCE:3
DTSTAMP:20260422T011337Z
URL:https://members.blsj.com/events/details/postponed-workers-comp-insurance-for-sole-proprietors-partners-11-09-2006-777
END:VEVENT

END:VCALENDAR
