BEGIN:VCALENDAR
VERSION:2.0
PRODID:-//ChamberMaster//Event Calendar 2.0//EN
METHOD:PUBLISH
X-PUBLISHED-TTL:P3D
REFRESH-INTERVAL:P3D
CALSCALE:GREGORIAN
BEGIN:VEVENT
DTSTART:20070308T170000Z
DTEND:20070308T170000Z
X-MICROSOFT-CDO-ALLDAYEVENT:FALSE
SUMMARY:POSTPONED - Which Wireless Fleet Management Technology is Right f
DESCRIPTION:More and more business owners have become aware of the powerful new technologies available to help them save costs and increase productivity of their mobile workforce   including GPS and a variety of other monitoring and reporting capabilities. They may even be aware that these solutions offer a rapid return-on-investment (ROI)\, with the payback period often occurring in just the first few months. However\, evaluating all of today's options can be very time consuming and somewhat overwhelming\, especially when added to your daily workload\, which of course\, continues to grow.  Mobile Management Resources (MMR) thoroughly understands the broad range of options available in the field of wireless fleet management. Steve Johnson\, VP Business Development\, will share some key questions that you should consider in selecting your optimal fleet management solution.   Presented by:  Steve Johnson\, Vice President Business Development mobile management resources
X-ALT-DESC;FMTTYPE=text/html:<div style="MARGIN: 0in 0in 0pt">More and more business owners have become aware of the powerful new technologies available to help them save costs and increase productivity of their mobile workforce &ndash\; including GPS and a variety of other monitoring and reporting capabilities.&nbsp\;They may even be aware that these solutions offer a rapid return-on-investment (ROI)\, with the payback period often occurring in just the first few months. However\, e<span style="COLOR: black">valuating all of today&rsquo\;s options can be very time consuming and somewhat overwhelming\, especially when added to your daily workload\, which of course\, continues to grow. </span></div> <div><span style="COLOR: black">Mobile Management Resources (MMR) thoroughly understands the broad range of options available in the field of wireless fleet management.&nbsp\;Steve Johnson\, VP Business Development\, will share some key questions that you should consider in selecting your optimal fleet management solution. </span></div> <div><span style="COLOR: black"></span></div> <div><span style="COLOR: black"><font style="FONT-SIZE: 12px"><span style="COLOR: black">Presented by:</span></font> <p class="MsoTitle" style="MARGIN: 0in 0in 0pt"><span style="FONT-SIZE: 14pt\; FONT-FAMILY: Arial\; FONT-VARIANT: small-caps\; TEXT-DECORATION: none\; mso-bidi-font-weight: bold\; mso-bidi-font-style: italic\; text-underline: none"><font style="FONT-SIZE: 12px"></font></span></p> <p class="MsoTitle" style="MARGIN: 0in 0in 0pt"><span style="FONT-SIZE: 14pt\; FONT-FAMILY: Arial\; FONT-VARIANT: small-caps\; TEXT-DECORATION: none\; mso-bidi-font-weight: bold\; mso-bidi-font-style: italic\; text-underline: none"><font style="FONT-SIZE: 11px"><span style="FONT-SIZE: 14pt\; FONT-FAMILY: Arial\; FONT-VARIANT: small-caps\; TEXT-DECORATION: none\; mso-bidi-font-weight: bold\; mso-bidi-font-style: italic\; text-underline: none">Steve Johnson\,</span></font> Vice President Business Development<o:p></o:p></span></p> <p class="MsoTitle" style="MARGIN: 0in 0in 24pt"><span style="FONT-SIZE: 14pt\; FONT-FAMILY: Arial\; FONT-VARIANT: small-caps\; TEXT-DECORATION: none\; mso-bidi-font-weight: bold\; mso-bidi-font-style: italic\; text-underline: none">mobile management resources</span></p> </span></div>
LOCATION:Builders League of South Jersey Cherry Hill\, NJ 08034
UID:e.9292.1177
SEQUENCE:3
DTSTAMP:20260422T063803Z
URL:https://members.blsj.com/events/details/postponed-which-wireless-fleet-management-technology-is-right-f-03-08-2007-1177
END:VEVENT

END:VCALENDAR
