BEGIN:VCALENDAR
VERSION:2.0
PRODID:-//ChamberMaster//Event Calendar 2.0//EN
METHOD:PUBLISH
X-PUBLISHED-TTL:P3D
REFRESH-INTERVAL:P3D
CALSCALE:GREGORIAN
BEGIN:VEVENT
DTSTART:20060511T220000Z
DTEND:20060511T160000Z
X-MICROSOFT-CDO-ALLDAYEVENT:FALSE
SUMMARY:Postponed: STATE OF THE REMODELERS INSURANCE MARKET
DESCRIPTION:Remodeling companies face numerous insurance challenges when trying to find adequate coverage - proper classification of employees\, liability coverage for spot lot' single family construction\, proper builders risk insurance - and more.  This program will assist remodeling companies of any size with ideas to move around these insurance obstacles and avoid customer problems before they surface.   SPEAKERS:   Anthony Bevilacqua\, CPCU\, President    Mark Smith\, CPCU\, Agency Underwriting Officer          Anthony & Company
X-ALT-DESC;FMTTYPE=text/html:Remodeling companies face numerous insurance challenges when trying to find adequate coverage - proper classification of employees\, liability coverage for spot lot' single family construction\, proper builders risk insurance - and more.  This program will assist remodeling companies of any size with ideas to move around these insurance obstacles and avoid customer problems before they surface.   SPEAKERS:   Anthony Bevilacqua\, CPCU\, President    Mark Smith\, CPCU\, Agency Underwriting Officer          Anthony & Company 
LOCATION:Builders League Office 114 Haddontowne Ct Cherry Hill\, NJ 08034
UID:e.9292.1179
SEQUENCE:3
DTSTAMP:20260421T170419Z
URL:https://members.blsj.com/events/details/postponed-state-of-the-remodelers-insurance-market-05-11-2006-1179
END:VEVENT

END:VCALENDAR
