BEGIN:VCALENDAR
VERSION:2.0
PRODID:-//ChamberMaster//Event Calendar 2.0//EN
METHOD:PUBLISH
X-PUBLISHED-TTL:P3D
REFRESH-INTERVAL:P3D
CALSCALE:GREGORIAN
BEGIN:VEVENT
DTSTART:20060914T220000Z
DTEND:20060914T160000Z
X-MICROSOFT-CDO-ALLDAYEVENT:FALSE
SUMMARY:Postponed - Seminar: Strong Women-Powerful Financial Strategies
DESCRIPTION:STRONG WOMEN - POWERFUL FINANCIAL STRATEGIES. Learn more about managing your financial resources. During this seminar\, we'll explore issues like: Why the rules of financial planning are different for women This seminar can help you: Organize and achieve your financial goals Understand asset allocation and diversification This is an educational seminar. Please plan to join us. Presented by: Sandy Dalton\, Ameriprise Financial Services\, Inc.
X-ALT-DESC;FMTTYPE=text/html:STRONG WOMEN - POWERFUL FINANCIAL STRATEGIES. Learn more about managing your financial resources. During this seminar\, we&rsquo\;ll explore issues like: Why the rules of financial planning are different for women This seminar can help you: Organize and achieve your financial goals Understand asset allocation and diversification This is an educational seminar. Please plan to join us. Presented by: Sandy Dalton\, Ameriprise Financial Services\, Inc.
LOCATION:Builders League 114 Haddontowne Ct Cherry Hill\, NJ 08034
UID:e.9292.1385
SEQUENCE:3
DTSTAMP:20260421T223735Z
URL:https://members.blsj.com/events/details/postponed-seminar-strong-women-powerful-financial-strategies-09-14-2006-1385
END:VEVENT

END:VCALENDAR
