BEGIN:VCALENDAR
VERSION:2.0
PRODID:-//ChamberMaster//Event Calendar 2.0//EN
METHOD:PUBLISH
X-PUBLISHED-TTL:P3D
REFRESH-INTERVAL:P3D
CALSCALE:GREGORIAN
BEGIN:VEVENT
DTSTART:20060628T220000Z
DTEND:20060628T220000Z
X-MICROSOFT-CDO-ALLDAYEVENT:FALSE
SUMMARY:Postponed - Seminar: "Designing with Architectural Concrete"
DESCRIPTION:"Designing with Architectural Concrete\," qualifies for one AIA Continuing Education System Learning Unit hour and one credit hour for Health\, Safety and Welfare.  seminar addresses the numerous ways to color and texture concrete\, showing images of award winning design projects throughout the country and giving new insights into the use of cost-effective architectural colored and textured concrete.  The topics will be divided into three general categories:  Concrete Coloring Systems- featuring integral colored admixtures\, color hardeners\, chemical stains\, curing agents and finishes for colored architectural flatwork and vertical concrete for interiors and exteriors.  Concrete Texturing Systems- including retarders and imprinting patterns for architectural flatwork for both precast and cast-in-place architectural concrete.  Repair and Maintenance Systems- for protecting and beautifying commercial\, industrial and residential concrete.  Presented by: Leo DeMarco\, L.M. Scofield Company\, Manufacturer of architectural coloring systems for concrete since 1915
X-ALT-DESC;FMTTYPE=text/html: "Designing with Architectural Concrete\," qualifies for one AIA Continuing Education System Learning Unit hour and one credit hour for Health\, Safety and Welfare.  seminar addresses the numerous ways to color and texture concrete\, showing images of award winning design projects throughout the country and giving new insights into the use of cost-effective architectural colored and textured concrete.  The topics will be divided into three general categories:  Concrete Coloring Systems- featuring integral colored admixtures\, color hardeners\, chemical stains\, curing agents and finishes for colored architectural flatwork and vertical concrete for interiors and exteriors.  Concrete Texturing Systems- including retarders and imprinting patterns for architectural flatwork for both precast and cast-in-place architectural concrete.  Repair and Maintenance Systems- for protecting and beautifying commercial\, industrial and residential concrete.  Presented by: Leo DeMarco\, L.M. Scofield Company\, Manufacturer of architectural coloring systems for concrete since 1915
LOCATION:Builders League of South Jersey Cherry Hill\, NJ 08034
UID:e.9292.538
SEQUENCE:3
DTSTAMP:20260421T183043Z
URL:https://members.blsj.com/events/details/postponed-seminar-designing-with-architectural-concrete-06-28-2006-538
END:VEVENT

END:VCALENDAR
