BEGIN:VCALENDAR
VERSION:2.0
PRODID:-//ChamberMaster//Event Calendar 2.0//EN
METHOD:PUBLISH
X-PUBLISHED-TTL:P3D
REFRESH-INTERVAL:P3D
CALSCALE:GREGORIAN
BEGIN:VEVENT
DTSTART:20250108T150000Z
DTEND:20250108T160000Z
X-MICROSOFT-CDO-ALLDAYEVENT:FALSE
SUMMARY:POSTPONED: Sales & Marketing Council Meeting
DESCRIPTION:
X-ALT-DESC;FMTTYPE=text/html:
LOCATION:
UID:e.9292.3797
SEQUENCE:3
DTSTAMP:20260421T132852Z
URL:https://members.blsj.com/events/details/postponed-sales-marketing-council-meeting-01-08-2025-3797
END:VEVENT

END:VCALENDAR
