BEGIN:VCALENDAR
VERSION:2.0
PRODID:-//ChamberMaster//Event Calendar 2.0//EN
METHOD:PUBLISH
X-PUBLISHED-TTL:P3D
REFRESH-INTERVAL:P3D
CALSCALE:GREGORIAN
BEGIN:VEVENT
DTSTART:20060310T230000Z
DTEND:20060310T170000Z
X-MICROSOFT-CDO-ALLDAYEVENT:FALSE
SUMMARY:Postponed - "Retirement Plans for Small Businesses"
DESCRIPTION:"Retirement Plans for Small Businesses"  FRIDAY\,  MARCH 10\, 2006 This seminar gives small business owners the latest information about retirement plans designed especially for small businesses.  You will learn: The benefits of sponsoring a retirement plan - for you\, your business and your employees Types of retirement plans available for small businesses -one size does not fit all.  You have options besides a 40l(k) plan with its higher cost and greater complexity. Criteria for choosing a plan - learn how to compare your options and make an informed   decision  Location:       Builders League of South Jersey Office       114 Haddontowne Court\, Cherry Hill\, NJ 08034 Time:       8:30 am - 9:00 am Continental Breakfast 9:00 am - Noon Program Fee:          $25.00 Presented By:       Steven Goldsmith\, CFP\, ChFC\, MBA   Goldsmith and Associates Jorge Ciprian\, Retirement Wealth Strategies Region Vice President        Representing Ameriprise Retirement Plans
X-ALT-DESC;FMTTYPE=text/html:"Retirement Plans for Small Businesses"  FRIDAY\,  MARCH 10\, 2006 This seminar gives small business owners the latest information about retirement plans designed especially for small businesses.  You will learn: The benefits of sponsoring a retirement plan - for you\, your business and your employees Types of retirement plans available for small businesses -one size does not fit all.  You have options besides a 40l(k) plan with its higher cost and greater complexity. Criteria for choosing a plan - learn how to compare your options and make an informed   decision  Location:       Builders League of South Jersey Office       114 Haddontowne Court\, Cherry Hill\, NJ 08034 Time:       8:30 am - 9:00 am Continental Breakfast 9:00 am - Noon Program Fee:          $25.00 Presented By:       Steven Goldsmith\, CFP\, ChFC\, MBA   Goldsmith and Associates Jorge Ciprian\, Retirement Wealth Strategies Region Vice President        Representing Ameriprise Retirement Plans 
LOCATION:Builders League Cherry Hill\, NJ 08034
UID:e.9292.535
SEQUENCE:3
DTSTAMP:20260421T134928Z
URL:https://members.blsj.com/events/details/postponed-retirement-plans-for-small-businesses-03-10-2006-535
END:VEVENT

END:VCALENDAR
