BEGIN:VCALENDAR
VERSION:2.0
PRODID:-//ChamberMaster//Event Calendar 2.0//EN
METHOD:PUBLISH
X-PUBLISHED-TTL:P3D
REFRESH-INTERVAL:P3D
CALSCALE:GREGORIAN
BEGIN:VEVENT
DTSTART:20061026T220000Z
DTEND:20061026T160000Z
X-MICROSOFT-CDO-ALLDAYEVENT:FALSE
SUMMARY:Postponed: RETIREMENT: PLANNING BEYOND THE NUMBERS
DESCRIPTION:RETIREMENT: PLANNING BEYOND THE NUMBERS During this seminar\, we will help you identify your plans and dreams for retirement. We'll explore issues like: What lifestyle would you like to live in retirement? Envisioning your ideal retirement. Opening your mind to new retirement possibilities Defining your dreams for retirement You will receive our newest retirement planning guide\, The Dream Book SM\, to help you explore your retirement dreams. This is an educational seminar. Please plan to join us. Presented by: Ameriprise Financial Services\, Inc.
X-ALT-DESC;FMTTYPE=text/html:RETIREMENT: PLANNING BEYOND THE NUMBERS During this seminar\, we will help you identify your plans and dreams for retirement. We&rsquo\;ll explore issues like: What lifestyle would you like to live in retirement? Envisioning your ideal retirement. Opening your mind to new retirement possibilities Defining your dreams for retirement You will receive our newest retirement planning guide\, The Dream Book SM\, to help you explore your retirement dreams. This is an educational seminar. Please plan to join us. Presented by: Ameriprise Financial Services\, Inc.
LOCATION:Builders League 114 Haddontowne Ct Cherry Hill\, NJ 08034
UID:e.9292.776
SEQUENCE:3
DTSTAMP:20260421T235556Z
URL:https://members.blsj.com/events/details/postponed-retirement-planning-beyond-the-numbers-10-26-2006-776
END:VEVENT

END:VCALENDAR
