BEGIN:VCALENDAR
VERSION:2.0
PRODID:-//ChamberMaster//Event Calendar 2.0//EN
METHOD:PUBLISH
X-PUBLISHED-TTL:P3D
REFRESH-INTERVAL:P3D
CALSCALE:GREGORIAN
BEGIN:VEVENT
DTSTART:20060413T220000Z
DTEND:20060413T160000Z
X-MICROSOFT-CDO-ALLDAYEVENT:FALSE
SUMMARY:POSTPONED-" Pearls of Wisdom - Never Kissed a Frog-Never had to!
DESCRIPTION:"Pearls of Wisdom"  From the series "Never Kissed a Frog. Never had to"  This seminar will help women talk about how to:  Identify areas of needed improvement in their financial lives  Break large financial goals into manageable steps  Protect their most valuable assets  Build funds for the future\, starting now.   Presented by: Terri McDermott CFP(R) ChFC Advanced Planning Specialist First Financial Group/Mass Mutual
X-ALT-DESC;FMTTYPE=text/html:"Pearls of Wisdom"  From the series "Never Kissed a Frog. Never had to"  This seminar will help women talk about how to:  Identify areas of needed improvement in their financial lives  Break large financial goals into manageable steps  Protect their most valuable assets  Build funds for the future\, starting now.   Presented by: Terri McDermott CFP(R) ChFC Advanced Planning Specialist First Financial Group/Mass Mutual   
LOCATION:Builders League 114 Haddontowne Ct Cherry Hill\, NJ 08034
UID:e.9292.1386
SEQUENCE:3
DTSTAMP:20260421T152654Z
URL:https://members.blsj.com/events/details/postponed-pearls-of-wisdom-never-kissed-a-frog-never-had-to-04-13-2006-1386
END:VEVENT

END:VCALENDAR
