BEGIN:VCALENDAR
VERSION:2.0
PRODID:-//ChamberMaster//Event Calendar 2.0//EN
METHOD:PUBLISH
X-PUBLISHED-TTL:P3D
REFRESH-INTERVAL:P3D
CALSCALE:GREGORIAN
BEGIN:VEVENT
DTSTART:20060309T230000Z
DTEND:20060309T170000Z
X-MICROSOFT-CDO-ALLDAYEVENT:FALSE
SUMMARY:POSTPONED - "How to Deal with Difficult Customers"- to 3/24
DESCRIPTION:How to Make Price a NON Issue Resolving Credit Issues Perfection Sought\, Perfection is Needed Baby Sitting or Service? When Do you Fire the Customer?   Presented by: Michael Kurpiel\, Marketing Manager\, Strober Building Supply Past Associate VP\, New Jersey Builders Association VP Associate Affairs Builders League of South Jersey
X-ALT-DESC;FMTTYPE=text/html:How to Make Price a NON Issue Resolving Credit Issues Perfection Sought\, Perfection is Needed Baby Sitting or Service? When Do you Fire the Customer?   Presented by: Michael Kurpiel\, Marketing Manager\, Strober Building Supply Past Associate VP\, New Jersey Builders Association VP Associate Affairs Builders League of South Jersey 
LOCATION:\, NJ
UID:e.9292.1520
SEQUENCE:3
DTSTAMP:20260421T152600Z
URL:https://members.blsj.com/events/details/postponed-how-to-deal-with-difficult-customers-to-3-24-03-09-2006-1520
END:VEVENT

END:VCALENDAR
