BEGIN:VCALENDAR
VERSION:2.0
PRODID:-//ChamberMaster//Event Calendar 2.0//EN
METHOD:PUBLISH
X-PUBLISHED-TTL:P3D
REFRESH-INTERVAL:P3D
CALSCALE:GREGORIAN
BEGIN:VEVENT
DTSTART:20060324T230000Z
DTEND:20060324T170000Z
X-MICROSOFT-CDO-ALLDAYEVENT:FALSE
SUMMARY:POSTPONED: "How to Deal with Difficult Customers"
DESCRIPTION:How to Make Price a NON Issue Resolving Credit Issues Perfection Sought\, Perfection is Needed Baby Sitting or Service? When Do you Fire the Customer?   Presented by: Michael Kurpiel\, Marketing Manager\, Strober Building Supply Past Associate VP\, New Jersey Builders Association VP Associate Affairs Builders League of South Jersey
X-ALT-DESC;FMTTYPE=text/html:How to Make Price a NON Issue Resolving Credit Issues Perfection Sought\, Perfection is Needed Baby Sitting or Service? When Do you Fire the Customer?   Presented by: Michael Kurpiel\, Marketing Manager\, Strober Building Supply Past Associate VP\, New Jersey Builders Association VP Associate Affairs Builders League of South Jersey 
LOCATION:\, NJ
UID:e.9292.540
SEQUENCE:3
DTSTAMP:20260421T134732Z
URL:https://members.blsj.com/events/details/postponed-how-to-deal-with-difficult-customers-03-24-2006-540
END:VEVENT

END:VCALENDAR
