BEGIN:VCALENDAR
VERSION:2.0
PRODID:-//ChamberMaster//Event Calendar 2.0//EN
METHOD:PUBLISH
X-PUBLISHED-TTL:P3D
REFRESH-INTERVAL:P3D
CALSCALE:GREGORIAN
BEGIN:VEVENT
DTSTART:20070412T220000Z
DTEND:20070412T160000Z
X-MICROSOFT-CDO-ALLDAYEVENT:FALSE
SUMMARY:POSTPONED: ESSENTIAL CLOSING STRATEGIES
DESCRIPTION:This course provides participants with an opportunity to practice\, drill and rehearse the key words and phrases appropriate in a range of sales situations. Through realistic simulations\, future sales leaders learn how to minimize common objections and win the confidence of prospective buyers. This course is ideal for new home sales professionals\, it analyzes the logic behind customer objections\, describes the techniques used by master closers\, and teaches you to be confident in your closing techniques. This class is approved for Continuing Education Credit for: CAPS\, CGA\, CGB\, CGR\, GMB\, CSP\, Master CSP\, CMP and MIRM. Instructor: Nancy Gainer\, MIRM
X-ALT-DESC;FMTTYPE=text/html:<p>This course provides participants with an opportunity to practice\, drill and rehearse the key words and phrases appropriate in a range of sales situations. Through realistic simulations\, future sales leaders learn how to minimize common objections and win the confidence of prospective buyers.</p> <p>This course is ideal for new home sales professionals\, it analyzes the logic behind customer objections\, describes the techniques used by master closers\, and teaches you to be confident in your closing techniques.</p> <p>This class is approved for Continuing Education Credit for: CAPS\, CGA\, CGB\, CGR\, GMB\, CSP\, Master CSP\, CMP and MIRM.</p> <p>Instructor: Nancy Gainer\, MIRM</p>
LOCATION:Builders League of South Jersey 114 Haddontowne Ct Cherry Hill\, NJ 08034
UID:e.9292.1523
SEQUENCE:3
DTSTAMP:20260422T074943Z
URL:https://members.blsj.com/events/details/postponed-essential-closing-strategies-04-12-2007-1523
END:VEVENT

END:VCALENDAR
