BEGIN:VCALENDAR
VERSION:2.0
PRODID:-//ChamberMaster//Event Calendar 2.0//EN
METHOD:PUBLISH
X-PUBLISHED-TTL:P3D
REFRESH-INTERVAL:P3D
CALSCALE:GREGORIAN
BEGIN:VEVENT
DTSTART:20070413T220000Z
DTEND:20070413T160000Z
X-MICROSOFT-CDO-ALLDAYEVENT:FALSE
SUMMARY:POSTPONED: EFFECTIVE MARKETING ON A SHOESTRING BUDGET
DESCRIPTION:Small firms must watch their resources. Often they spend too little time and money on marketing. This course provides planning tools that won't break anyone's budget. Participants will learn how to analyze target markets\, identify competitive advantages\, create accurate proformas and monitor outcomes. Don't neglect this vital component of your business! Learn how to incorporate a market plan\, locate prospective customers and satisfy their wants and needs\, and track and improve sales results. This course is approved for Continuing Education Credit for: CAPS\, CSP\, Master CSP\, CMP\, MIRM CGA\, CGB\, CGR and GMB. Instructor: Nancy Gainer\, MIRM
X-ALT-DESC;FMTTYPE=text/html:<p>Small firms must watch their resources. Often they spend too little time and money on marketing. This course provides planning tools that won&rsquo\;t break anyone&rsquo\;s budget.</p> <p>Participants will learn how to analyze target markets\, identify competitive advantages\, create accurate proformas and monitor outcomes. Don&rsquo\;t neglect this vital component of your business!</p> <p>Learn how to incorporate a market plan\, locate prospective customers and satisfy their wants and needs\, and track and improve sales results.</p> <p>This course is approved for Continuing Education Credit for: CAPS\, CSP\, Master CSP\, CMP\, MIRM CGA\, CGB\, CGR and GMB.</p> <p>Instructor: Nancy Gainer\, MIRM</p> <table cellspacing="1" cellpadding="1" width="200" summary="" border="1">     <tbody>     </tbody> </table>
LOCATION:Builders League of South Jersey 114 Haddontowne Court Cherry Hill\, NJ 08034
UID:e.9292.770
SEQUENCE:3
DTSTAMP:20260422T075100Z
URL:https://members.blsj.com/events/details/postponed-effective-marketing-on-a-shoestring-budget-04-13-2007-770
END:VEVENT

END:VCALENDAR
