BEGIN:VCALENDAR
VERSION:2.0
PRODID:-//ChamberMaster//Event Calendar 2.0//EN
METHOD:PUBLISH
X-PUBLISHED-TTL:P3D
REFRESH-INTERVAL:P3D
CALSCALE:GREGORIAN
BEGIN:VEVENT
DTSTART:20061109T170000Z
DTEND:20061109T170000Z
X-MICROSOFT-CDO-ALLDAYEVENT:FALSE
SUMMARY:POSTPONED: Charitable Foundation Committee Meeting
DESCRIPTION:No meeting in November
X-ALT-DESC;FMTTYPE=text/html:<p>No meeting in November</p>
LOCATION:\, NJ
UID:e.9292.1178
SEQUENCE:3
DTSTAMP:20260422T011846Z
URL:https://members.blsj.com/events/details/postponed-charitable-foundation-committee-meeting-11-09-2006-1178
END:VEVENT

END:VCALENDAR
