BEGIN:VCALENDAR
VERSION:2.0
PRODID:-//ChamberMaster//Event Calendar 2.0//EN
METHOD:PUBLISH
X-PUBLISHED-TTL:P3D
REFRESH-INTERVAL:P3D
CALSCALE:GREGORIAN
BEGIN:VEVENT
DTSTART:20060309T170000Z
DTEND:20060309T170000Z
X-MICROSOFT-CDO-ALLDAYEVENT:FALSE
SUMMARY:Postponed - Charitable Foundation Committee Meeting - 03/09/2006
DESCRIPTION:There will not be a meeting of the Charitable Foundation in March
X-ALT-DESC;FMTTYPE=text/html:There will not be a meeting of the Charitable Foundation in March
LOCATION:\, NJ
UID:e.9292.1174
SEQUENCE:3
DTSTAMP:20260421T135013Z
URL:https://members.blsj.com/events/details/postponed-charitable-foundation-committee-meeting-03-09-2006-03-09-2006-1174
END:VEVENT

END:VCALENDAR
