BEGIN:VCALENDAR
VERSION:2.0
PRODID:-//ChamberMaster//Event Calendar 2.0//EN
METHOD:PUBLISH
X-PUBLISHED-TTL:P3D
REFRESH-INTERVAL:P3D
CALSCALE:GREGORIAN
BEGIN:VEVENT
DTSTART:20061025T220000Z
DTEND:20061025T160000Z
X-MICROSOFT-CDO-ALLDAYEVENT:FALSE
SUMMARY:Postpone: It's Not Easy Being Green: A Look at Green Building Pra
DESCRIPTION:Seminar: "It's Not Easy Being Green: A Look at Green Building Practices and Construction Adhesives" Topics: Building Green - An Overview The value of Building Green The emergence and proliferation of Green Programs Green principles applied to Adhesives and Sealants Bostik Home Adhesives and Sealants Presented by: James Downing Jr. - Construction Adhesives Product Manager Kurt Zintner - Technical Services Manager Bostik\, Inc.
X-ALT-DESC;FMTTYPE=text/html:Seminar: &quot\;It&rsquo\;s Not Easy Being Green: A Look at Green Building Practices and Construction Adhesives&quot\; Topics: Building Green - An Overview The value of Building Green The emergence and proliferation of Green Programs Green principles applied to Adhesives and Sealants Bostik Home Adhesives and Sealants Presented by: James Downing Jr. - Construction Adhesives Product Manager Kurt Zintner - Technical Services Manager Bostik\, Inc.
LOCATION:Builders League 114 Haddontowne Ct Cherry Hill\, NJ 08034
UID:e.9292.1060
SEQUENCE:3
DTSTAMP:20260421T235818Z
URL:https://members.blsj.com/events/details/postpone-it-s-not-easy-being-green-a-look-at-green-building-pra-10-25-2006-1060
END:VEVENT

END:VCALENDAR
