BEGIN:VCALENDAR
VERSION:2.0
PRODID:-//ChamberMaster//Event Calendar 2.0//EN
METHOD:PUBLISH
X-PUBLISHED-TTL:P3D
REFRESH-INTERVAL:P3D
CALSCALE:GREGORIAN
BEGIN:VEVENT
DTSTART:20050420T220000Z
DTEND:20050420T220000Z
X-MICROSOFT-CDO-ALLDAYEVENT:FALSE
SUMMARY:Overtime Pay: The Impact of New Federal Laws on NJ Employers-CANC
DESCRIPTION:"Overtime Pay:  The Relationship of Federal and State Laws on New Jersey Employers" Flaster/Greenberg Employment and Law Shareholders Michael D. Homans and Paul J. Russoniello will discuss new federal and state wage and hour laws as they apply to individual workers and classes of workers.  The program will focus on how to comply with these laws to avoid liability from administrative actions and lawsuits.
X-ALT-DESC;FMTTYPE=text/html:"Overtime Pay:  The Relationship of Federal and State Laws on New Jersey Employers" Flaster/Greenberg Employment and Law Shareholders Michael D. Homans and Paul J. Russoniello will discuss new federal and state wage and hour laws as they apply to individual workers and classes of workers.  The program will focus on how to comply with these laws to avoid liability from administrative actions and lawsuits.
LOCATION:BLSJ Cherry Hill\, NJ 08034
UID:e.9292.1336
SEQUENCE:3
DTSTAMP:20260420T234037Z
URL:https://members.blsj.com/events/details/overtime-pay-the-impact-of-new-federal-laws-on-nj-employers-canc-04-20-2005-1336
END:VEVENT

END:VCALENDAR
