BEGIN:VCALENDAR
VERSION:2.0
PRODID:-//ChamberMaster//Event Calendar 2.0//EN
METHOD:PUBLISH
X-PUBLISHED-TTL:P3D
REFRESH-INTERVAL:P3D
CALSCALE:GREGORIAN
BEGIN:VEVENT
DTSTART:20070418T160000Z
DTEND:20070418T160000Z
X-MICROSOFT-CDO-ALLDAYEVENT:FALSE
SUMMARY:OSHA 10 HOUR CERTIFICATION CLASS - LIMITED SEATING - 04/18/2007
DESCRIPTION:The Builders League is offering a 10-Hour Certification OSHA Compliance for the Construction Industry at the Atlantic Builders Convention in Atlantic City... CLASS IS IN ROOM 408 COMPLIMENTARY SHOW PASS WITH REGISTRATION Workplace Safety & OSHA Compliance In today's growing construction market\, employers face increasingly complex challenges such as: complying with OSHA regulations\, state law and increasing workers' compensation costs.  If your insurance carrier is not already requiring OSHA certification-be prepared that most will be requiring it in the near future as part of their loss control recommendations.  Failing to stay current on the latest changes in OSHA rules and regulations can put your workers at risk and get your company slapped with tens of thousands of dollars in fines!  With OSHA and workers' compensation requirements pushing companies to do more and more to protect everyone on the jobsite\, developing and delivering a safety and training and education program is of utmost importance!
X-ALT-DESC;FMTTYPE=text/html:<p align="center"><font color="#ff0000">The Builders League is offering a 10-Hour Certification OSHA Compliance for the Construction Industry</font></p> <p align="center"><font color="#ff0000">at the Atlantic Builders Convention in Atlantic City...</font></p> <p align="center"><font color="#ff0000"><strong><u>CLASS IS IN ROOM 408</u></strong></font></p> <p align="center"><font color="#ff0000">COMPLIMENTARY SHOW PASS WITH REGISTRATION</font></p> <p align="center">Workplace Safety &amp\; OSHA Compliance In today&rsquo\;s growing construction market\, employers face increasingly complex challenges such as: complying with OSHA regulations\, state law and increasing workers&rsquo\; compensation costs. </p> <p align="center">If your insurance carrier is not already requiring OSHA certification-be prepared that most will be requiring it in the near future as part of their loss control recommendations. </p> <p align="center">Failing to stay current on the latest changes in OSHA rules and regulations can put your workers at risk and get your company slapped with tens of thousands of dollars in fines! </p> <p align="center">With OSHA and workers&rsquo\; compensation requirements pushing companies to do more and more to protect everyone on the jobsite\, developing and delivering a safety and training and education program is of utmost importance! </p>
LOCATION:ATLANTIC CITY CONVENTION CENTER Room 408 Atlantic City\, NJ 00000
UID:e.9292.1043
SEQUENCE:3
DTSTAMP:20260422T075520Z
URL:https://members.blsj.com/events/details/osha-10-hour-certification-class-limited-seating-04-18-2007-04-18-2007-1043
END:VEVENT

END:VCALENDAR
