BEGIN:VCALENDAR
VERSION:2.0
PRODID:-//ChamberMaster//Event Calendar 2.0//EN
METHOD:PUBLISH
X-PUBLISHED-TTL:P3D
REFRESH-INTERVAL:P3D
CALSCALE:GREGORIAN
BEGIN:VEVENT
DTSTART:20060915T220000Z
DTEND:20060915T220000Z
X-MICROSOFT-CDO-ALLDAYEVENT:FALSE
SUMMARY:OSHA 10 HOUR CERTIFICATION CLASS - 09/15/2006
DESCRIPTION:Workplace Safety & OSHA Compliance  In today's growing construction market\, employers face increasingly complex challenges such as: complying with OSHA regulations\, state law and increasing workers' compensation costs.  If your insurance carrier is not already requiring OSHA certification-be prepared that most will be requiring it in the near future as part of their loss control recommendations. Failing to stay current on the latest changes in OSHA rules and regulations can put your workers at risk and get your company slapped with tens of thousands of dollars in fines! With OSHA and workers' compensation requirements pushing companies to do more and more to protect everyone on the jobsite\, developing and delivering a safety and training and education program is of utmost importance! The Builders League is offering a 10-Hour Certification OSHA Compliance for the Construction Industry Class Continental breakfast and lunch will be provided
X-ALT-DESC;FMTTYPE=text/html:Workplace Safety & OSHA Compliance  In today's growing construction market\, employers face increasingly complex challenges such as: complying with OSHA regulations\, state law and increasing workers' compensation costs.  If your insurance carrier is not already requiring OSHA certification-be prepared that most will be requiring it in the near future as part of their loss control recommendations. Failing to stay current on the latest changes in OSHA rules and regulations can put your workers at risk and get your company slapped with tens of thousands of dollars in fines! With OSHA and workers' compensation requirements pushing companies to do more and more to protect everyone on the jobsite\, developing and delivering a safety and training and education program is of utmost importance! The Builders League is offering a 10-Hour Certification OSHA Compliance for the Construction Industry Class Continental breakfast and lunch will be provided
LOCATION:Builders League of South Jersey 114 Haddontowne Ct Cherry Hill\, NJ 08034
UID:e.9292.1333
SEQUENCE:3
DTSTAMP:20260421T223050Z
URL:https://members.blsj.com/events/details/osha-10-hour-certification-class-09-15-2006-09-15-2006-1333
END:VEVENT

END:VCALENDAR
