BEGIN:VCALENDAR
VERSION:2.0
PRODID:-//ChamberMaster//Event Calendar 2.0//EN
METHOD:PUBLISH
X-PUBLISHED-TTL:P3D
REFRESH-INTERVAL:P3D
CALSCALE:GREGORIAN
BEGIN:VEVENT
DTSTART:20060823T160000Z
DTEND:20060823T160000Z
X-MICROSOFT-CDO-ALLDAYEVENT:FALSE
SUMMARY:Nominating Committee Meeting - 08/23/2006
DESCRIPTION:
X-ALT-DESC;FMTTYPE=text/html:
LOCATION:BLSJ Cherry Hill\, NJ 08034
UID:e.9292.1042
SEQUENCE:3
DTSTAMP:20260421T223428Z
URL:https://members.blsj.com/events/details/nominating-committee-meeting-08-23-2006-08-23-2006-1042
END:VEVENT

END:VCALENDAR
